BEGIN:VCALENDAR
PRODID:-//PUBBLE//agenda//NL
VERSION:2.0
METHOD:PUBLISH
BEGIN:VEVENT
DTSTART:20220620T090000Z
DTEND:20260719T220000Z
DTSTAMP:20260422T225158Z
UID:75511742-81cb-4d15-b839-4886e470ac07
CREATED:20260422T225158Z
NAME:Grote wekelijkse Rommelmarkt Den Hoorn texelagenda.nl
X-WR-CALNAME:Grote wekelijkse Rommelmarkt Den Hoorn
X-ALT-DESC;FMTTYPE=text/html:<a href='/agenda/2022/6/20/grote-wekelijkse-rommelmarkt-den-hoorn-317152'>/agenda/2022/6/20/grote-wekelijkse-rommelmarkt-den-hoorn-317152</a> || Grote rommelmarkt, gehele jaar door, iedere maandag van 11:00 tot 16:00 uur. Grotendeels binnen en deels buiten de gebouwen aan de Witteweg 3-B, 1797 RR  Den Hoorn. Opbrengst t.b.v. onderhoud van het pittoreske kerkje van Den Hoorn. Markt wordt gerund door vrijwilligers. Spullen kunnen iedere dag gebracht worden in de open schuur op marktterrein. Helaas kunnen wij geen spullen ophalen. Wij accepteren geen grote meubelen, bankstellen, toiletpotten, wasbakken, autobanden, accu’s, ouderwetse tv’s met beeldbuis, zonnebanken, en geen kleding. Graag alleen schone spullen!
DESCRIPTION:<a href='/agenda/2022/6/20/grote-wekelijkse-rommelmarkt-den-hoorn-317152'>/agenda/2022/6/20/grote-wekelijkse-rommelmarkt-den-hoorn-317152</a> || Grote rommelmarkt, gehele jaar door, iedere maandag van 11:00 tot 16:00 uur. Grotendeels binnen en deels buiten de gebouwen aan de Witteweg 3-B, 1797 RR  Den Hoorn. Opbrengst t.b.v. onderhoud van het pittoreske kerkje van Den Hoorn. Markt wordt gerund door vrijwilligers. Spullen kunnen iedere dag gebracht worden in de open schuur op marktterrein. Helaas kunnen wij geen spullen ophalen. Wij accepteren geen grote meubelen, bankstellen, toiletpotten, wasbakken, autobanden, accu’s, ouderwetse tv’s met beeldbuis, zonnebanken, en geen kleding. Graag alleen schone spullen!
LAST-MODIFIED:20260422T225158Z
LOCATION: Bollenschuur Axel Lap | Witteweg 3b Den Hoorn
SEQUENCE:0
STATUS:CONFIRMED
SUMMARY:Grote wekelijkse Rommelmarkt Den Hoorn
TRANSP:OPAQUE
END:VEVENT
END:VCALENDAR
