BEGIN:VCALENDAR
PRODID:-//PUBBLE//agenda//NL
VERSION:2.0
METHOD:PUBLISH
BEGIN:VEVENT
DTSTART:20250813T070900Z
DTEND:20251229T220000Z
DTSTAMP:20260421T213212Z
UID:fd62d4c4-8a80-4cf2-a85b-c2873d772550
CREATED:20260421T213212Z
NAME:Weekmarkt Den Burg 2025 texelagenda.nl
X-WR-CALNAME:Weekmarkt Den Burg 2025
X-ALT-DESC;FMTTYPE=text/html:<a href='/agenda/2025/8/13/weekmarkt-den-burg-2025-329317'>/agenda/2025/8/13/weekmarkt-den-burg-2025-329317</a> || <p>In Den Burg is er iedere maandagmorgen een warenmark’. M.u.v. Paas- en Pinkstermaandag en 5 mei. Tussen 8:00 uur en 13:00 uur vindt u vele kramen op de Groeneplaats, Vismarkt en in de Parkstraat. Rolstoelvriendelijk: jaHuisdiervriendelijk: ja</p>
DESCRIPTION:<a href='/agenda/2025/8/13/weekmarkt-den-burg-2025-329317'>/agenda/2025/8/13/weekmarkt-den-burg-2025-329317</a> || <p>In Den Burg is er iedere maandagmorgen een warenmark’. M.u.v. Paas- en Pinkstermaandag en 5 mei. Tussen 8:00 uur en 13:00 uur vindt u vele kramen op de Groeneplaats, Vismarkt en in de Parkstraat. Rolstoelvriendelijk: jaHuisdiervriendelijk: ja</p>
LAST-MODIFIED:20260421T213212Z
LOCATION: Centrum | Vismarkt 7 Den Burg
SEQUENCE:0
STATUS:CONFIRMED
SUMMARY:Weekmarkt Den Burg 2025
TRANSP:OPAQUE
END:VEVENT
END:VCALENDAR
