BEGIN:VCALENDAR
PRODID:-//PUBBLE//agenda//NL
VERSION:2.0
METHOD:PUBLISH
BEGIN:VEVENT
DTSTART:20260422T120000Z
DTEND:20260422T130000Z
DTSTAMP:20260421T235532Z
UID:2dfc543d-77c9-49e4-9001-0b9c0337d5f5
CREATED:20260421T235532Z
NAME:Wandeling voor mantelzorgers texelagenda.nl
X-WR-CALNAME:Wandeling voor mantelzorgers
X-ALT-DESC;FMTTYPE=text/html:<a href='/agenda/2026/4/22/wandeling-voor-mantelzorgers-332960'>/agenda/2026/4/22/wandeling-voor-mantelzorgers-332960</a> || <p><strong>Het Mantelzorgsteunpunt van Texels Welzijn organiseert een wandeling voor mantelzorgers op woensdag 22 april van 16.00 tot 16.45 uur.</strong></p><p><strong>Als mantelzorger heb je soms even rust en ruimte nodig om bij te tanken. Een moment voor jezelf, buiten in de natuur.</strong></p><p>Maroucha Stolk en Cobie Daalder nodigen je uit om samen met andere mantelzorgers te wandelen, mensen die je situatie herkennen en waardoor je makkelijker met elkaar in gesprek komt.</p><p>Het rustige tempo biedt de perfecte gelegenheid om ervaringen te delen, een praatje te maken en waardevolle tips uit te wisselen.</p><p>We wisselen regelmatig van wandelpartner, dus je ontmoet verschillende mensen. Wandel je mee?</p><p>Aanmelden is niet nodig, deelname is gratis.</p><p>We starten vanaf Stayokay, Haffelderweg 29 in Den Burg . We sluiten daar ook af met koffie en thee.</p><p>Voor meer info: neem gerust contact op met Cobie Daalder – mantelzorgconsulent</p><p>Tel. 312 696 of mail naar c.daalder@texelswelzijn.nl</p>
DESCRIPTION:<a href='/agenda/2026/4/22/wandeling-voor-mantelzorgers-332960'>/agenda/2026/4/22/wandeling-voor-mantelzorgers-332960</a> || <p><strong>Het Mantelzorgsteunpunt van Texels Welzijn organiseert een wandeling voor mantelzorgers op woensdag 22 april van 16.00 tot 16.45 uur.</strong></p><p><strong>Als mantelzorger heb je soms even rust en ruimte nodig om bij te tanken. Een moment voor jezelf, buiten in de natuur.</strong></p><p>Maroucha Stolk en Cobie Daalder nodigen je uit om samen met andere mantelzorgers te wandelen, mensen die je situatie herkennen en waardoor je makkelijker met elkaar in gesprek komt.</p><p>Het rustige tempo biedt de perfecte gelegenheid om ervaringen te delen, een praatje te maken en waardevolle tips uit te wisselen.</p><p>We wisselen regelmatig van wandelpartner, dus je ontmoet verschillende mensen. Wandel je mee?</p><p>Aanmelden is niet nodig, deelname is gratis.</p><p>We starten vanaf Stayokay, Haffelderweg 29 in Den Burg . We sluiten daar ook af met koffie en thee.</p><p>Voor meer info: neem gerust contact op met Cobie Daalder – mantelzorgconsulent</p><p>Tel. 312 696 of mail naar c.daalder@texelswelzijn.nl</p>
LAST-MODIFIED:20260421T235532Z
LOCATION: Stayokay | Haffelderweg 29 Den Burg
SEQUENCE:0
STATUS:CONFIRMED
SUMMARY:Wandeling voor mantelzorgers
TRANSP:OPAQUE
END:VEVENT
END:VCALENDAR
