BEGIN:VCALENDAR
PRODID:-//PUBBLE//agenda//NL
VERSION:2.0
METHOD:PUBLISH
BEGIN:VEVENT
DTSTART:20260901T113000Z
DTEND:20261031T124400Z
DTSTAMP:20260420T233436Z
UID:332f4b18-604a-4a6c-b565-c11f95377caa
CREATED:20260420T233436Z
NAME:Najaars vogeltrek in natuurgebied Waalenburg texelagenda.nl
X-WR-CALNAME:Najaars vogeltrek in natuurgebied Waalenburg
X-ALT-DESC;FMTTYPE=text/html:<a href='/agenda/2026/9/1/najaars-vogeltrek-in-natuurgebied-waalenburg-333483'>/agenda/2026/9/1/najaars-vogeltrek-in-natuurgebied-waalenburg-333483</a> || <p>Onder begeleiding van een enthousiaste gids maak je een mooie wandeling door natuurgebied Waalenburg. In deze tijd van het jaar is dit een goede plek om te genieten van de najaarstrek. Talrijke vogels arriveren uit meer noordelijk gelegen broedstreken en doen Texel aan om uit te rusten en energie te tanken voor hun vervolgreis of om de winter hier door te brengen.</p><p>Door de grote oppervlakte nat grasland, de vele kreken, de rust in het gebied in combinatie met een overvloed aan voedsel kun je talrijke vogelsoorten aantreffen. Dit varieert van watervogels als kol- en brandganzen, smienten, wintertalingen tot steltlopers als goudplevieren, kemphanen en wulpen. In de loop van de dag krijgen deze soorten nog dikwijls gezelschap van talloze meeuwen. Ook maak je kans op roofvogels, zoals slechtvalk, havik of blauwe kiekendief. In de bosschages bij uitkijkpunt Hertenkamp maken zangvogels als paapje, zwartkop en tjiftjaf het scala compleet. Zeker in deze tijd van het jaar is het een uitdaging om een spectaculaire dwaalgast te ontdekken!</p><p>Tijdens de excursie kun je kosteloos gebruikmaken van een kwalitatief goede leenverrekijker.</p><p>Wij sluiten de wandeling af in Natuurcentrum De Marel met een kop lekkere warme chocolademelk of koffie. &nbsp;</p><p>Dit evenement is niet rolstoelvriendelijk.</p><p>Dit evenement is niet huisdiervriendelijk.</p>
DESCRIPTION:<a href='/agenda/2026/9/1/najaars-vogeltrek-in-natuurgebied-waalenburg-333483'>/agenda/2026/9/1/najaars-vogeltrek-in-natuurgebied-waalenburg-333483</a> || <p>Onder begeleiding van een enthousiaste gids maak je een mooie wandeling door natuurgebied Waalenburg. In deze tijd van het jaar is dit een goede plek om te genieten van de najaarstrek. Talrijke vogels arriveren uit meer noordelijk gelegen broedstreken en doen Texel aan om uit te rusten en energie te tanken voor hun vervolgreis of om de winter hier door te brengen.</p><p>Door de grote oppervlakte nat grasland, de vele kreken, de rust in het gebied in combinatie met een overvloed aan voedsel kun je talrijke vogelsoorten aantreffen. Dit varieert van watervogels als kol- en brandganzen, smienten, wintertalingen tot steltlopers als goudplevieren, kemphanen en wulpen. In de loop van de dag krijgen deze soorten nog dikwijls gezelschap van talloze meeuwen. Ook maak je kans op roofvogels, zoals slechtvalk, havik of blauwe kiekendief. In de bosschages bij uitkijkpunt Hertenkamp maken zangvogels als paapje, zwartkop en tjiftjaf het scala compleet. Zeker in deze tijd van het jaar is het een uitdaging om een spectaculaire dwaalgast te ontdekken!</p><p>Tijdens de excursie kun je kosteloos gebruikmaken van een kwalitatief goede leenverrekijker.</p><p>Wij sluiten de wandeling af in Natuurcentrum De Marel met een kop lekkere warme chocolademelk of koffie. &nbsp;</p><p>Dit evenement is niet rolstoelvriendelijk.</p><p>Dit evenement is niet huisdiervriendelijk.</p>
LAST-MODIFIED:20260420T233436Z
LOCATION: Natuurcentrum De Marel | Nieuwlanderweg 38 De Waal
SEQUENCE:0
STATUS:CONFIRMED
SUMMARY:Najaars vogeltrek in natuurgebied Waalenburg
TRANSP:OPAQUE
END:VEVENT
END:VCALENDAR
