BEGIN:VCALENDAR
PRODID:-//PUBBLE//agenda//NL
VERSION:2.0
METHOD:PUBLISH
BEGIN:VEVENT
DTSTART:20261121T180000Z
DTEND:20261120T230000Z
DTSTAMP:20260422T044327Z
UID:a61904f9-f4a2-4426-8ae6-f9d63eeb7ce5
CREATED:20260422T044327Z
NAME:Edwin Eversband in de Evenementenhal texelagenda.nl
X-WR-CALNAME:Edwin Eversband in de Evenementenhal
X-ALT-DESC;FMTTYPE=text/html:<a href='/agenda/2026/11/21/edwin-eversband-in-de-evenementenhal-333636'>/agenda/2026/11/21/edwin-eversband-in-de-evenementenhal-333636</a> || <p>De Texelse Bierbrouwerij startte in 2023 met een nieuw muziekevenement: “Texels voor Texel”. Voor de eerste editie haalden zij de Edwin Evers Band naar het eiland. Later volgden George Baker, de Hermes House Band en diverse nederpop-iconen.</p><p>Wat begon als een eenmalig Texels feestje, is inmiddels uitgegroeid tot een jaarlijks terugkerend evenement in de Evenementenhal Texel op De Krim.</p><p>Op zaterdag 21 november 2026 keert de Edwin Evers Band terug naar Texel. Tijdens eerdere edities kon het publiek al genieten van verschillende muziekgenres, maar de populaire Edwin Evers Band bleek duidelijk de favoriet.</p><p>In mei 2026 start de kaartverkoop voor dit gezellige Texelse feestje. “Iedereen van boven de achttien kan via krim.nl/texels een kaartje kopen”. Voor Texelaars geldt uiteraard weer een gereduceerd tarief.</p><p>Dit evenement is rolstoelvriendelijk. Dit evenement is niet huisdiervriendelijk.</p>
DESCRIPTION:<a href='/agenda/2026/11/21/edwin-eversband-in-de-evenementenhal-333636'>/agenda/2026/11/21/edwin-eversband-in-de-evenementenhal-333636</a> || <p>De Texelse Bierbrouwerij startte in 2023 met een nieuw muziekevenement: “Texels voor Texel”. Voor de eerste editie haalden zij de Edwin Evers Band naar het eiland. Later volgden George Baker, de Hermes House Band en diverse nederpop-iconen.</p><p>Wat begon als een eenmalig Texels feestje, is inmiddels uitgegroeid tot een jaarlijks terugkerend evenement in de Evenementenhal Texel op De Krim.</p><p>Op zaterdag 21 november 2026 keert de Edwin Evers Band terug naar Texel. Tijdens eerdere edities kon het publiek al genieten van verschillende muziekgenres, maar de populaire Edwin Evers Band bleek duidelijk de favoriet.</p><p>In mei 2026 start de kaartverkoop voor dit gezellige Texelse feestje. “Iedereen van boven de achttien kan via krim.nl/texels een kaartje kopen”. Voor Texelaars geldt uiteraard weer een gereduceerd tarief.</p><p>Dit evenement is rolstoelvriendelijk. Dit evenement is niet huisdiervriendelijk.</p>
LAST-MODIFIED:20260422T044327Z
LOCATION: Evenementenhal Texel - De Krim | Roggeslootweg 6 De Cocksdorp
SEQUENCE:0
STATUS:CONFIRMED
SUMMARY:Edwin Eversband in de Evenementenhal
TRANSP:OPAQUE
END:VEVENT
END:VCALENDAR
