BEGIN:VCALENDAR
PRODID:-//PUBBLE//agenda//NL
VERSION:2.0
METHOD:PUBLISH
BEGIN:VEVENT
DTSTART:20260426T074500Z
DTEND:20260426T110000Z
DTSTAMP:20260422T045952Z
UID:8e94dc32-3ac9-4f74-afac-fb6462b7752d
CREATED:20260422T045952Z
NAME:Hogebergloop texelagenda.nl
X-WR-CALNAME:Hogebergloop
X-ALT-DESC;FMTTYPE=text/html:<a href='/agenda/2026/4/26/hogebergloop-333658'>/agenda/2026/4/26/hogebergloop-333658</a> || <p>6e Hoge Berg Loop Een leuke loop over prehistorische grond: op deze door de Saale ijstijd gevormde kern van Texel liepen 100 000 jaar geleden de Neanderthalers al hard! De start en finish zijn op de kunststofbaan en bij het clubgebouw van de atletiekvereniging achter de voetbalkantine aan de Haffelderweg. Er zijn rondes van 7,5 en 5,6 km over paden tussen de “tuunwallen” en de schapen, met prachtige panorama’s over het glooiende gebied en de Waddenzee. De jeugd loopt t/m 8 jr 800 m en jeugd 9 t/m 15 jaar loopt 1200 m op de baan. Start jeugd 10:30, de anderen 11:00. Met de boot van Den Helder 09:30 is de locatie op tijd te bereiken, maar met openbaar vervoer wel krap (Den Burg, halte Elemert). Inschrijfgelden: jeugd t/m 15 € 2, anderen € 5 Kleedruimtes en douches aanwezig. Recreatieve loop zonder prijzen maar met gezonde herinnering.</p><p>Dit evenement is rolstoelvriendelijk.</p><p>Dit evenement is huisdiervriendelijk.</p>
DESCRIPTION:<a href='/agenda/2026/4/26/hogebergloop-333658'>/agenda/2026/4/26/hogebergloop-333658</a> || <p>6e Hoge Berg Loop Een leuke loop over prehistorische grond: op deze door de Saale ijstijd gevormde kern van Texel liepen 100 000 jaar geleden de Neanderthalers al hard! De start en finish zijn op de kunststofbaan en bij het clubgebouw van de atletiekvereniging achter de voetbalkantine aan de Haffelderweg. Er zijn rondes van 7,5 en 5,6 km over paden tussen de “tuunwallen” en de schapen, met prachtige panorama’s over het glooiende gebied en de Waddenzee. De jeugd loopt t/m 8 jr 800 m en jeugd 9 t/m 15 jaar loopt 1200 m op de baan. Start jeugd 10:30, de anderen 11:00. Met de boot van Den Helder 09:30 is de locatie op tijd te bereiken, maar met openbaar vervoer wel krap (Den Burg, halte Elemert). Inschrijfgelden: jeugd t/m 15 € 2, anderen € 5 Kleedruimtes en douches aanwezig. Recreatieve loop zonder prijzen maar met gezonde herinnering.</p><p>Dit evenement is rolstoelvriendelijk.</p><p>Dit evenement is huisdiervriendelijk.</p>
LAST-MODIFIED:20260422T045952Z
LOCATION: Atletiekbaan | Haffelderweg 48 Texel
SEQUENCE:0
STATUS:CONFIRMED
SUMMARY:Hogebergloop
TRANSP:OPAQUE
END:VEVENT
END:VCALENDAR
