BEGIN:VCALENDAR
PRODID:-//PUBBLE//agenda//NL
VERSION:2.0
METHOD:PUBLISH
BEGIN:VEVENT
DTSTART:20260704T100000Z
DTEND:20260704T215900Z
DTSTAMP:20260423T103815Z
UID:1b768e0f-2073-41be-a654-db4a6b90688b
CREATED:20260423T103815Z
NAME:SomPop Festival 2026 texelagenda.nl
X-WR-CALNAME:SomPop Festival 2026
X-ALT-DESC;FMTTYPE=text/html:<a href='/agenda/2026/7/4/sompop-festival-2026-334062'>/agenda/2026/7/4/sompop-festival-2026-334062</a> || <p>In De Waal wordt op zaterdag 4 juli het festival SomPop georganiseerd. Vanaf 12:00 uur gaan de poorten open voor twaalf uur top entertainment. Verdeeld over vier area’s wordt er muziek en vertier geboden voor alle smaken. Laat je verrassen! Rolstoelvriendelijk: neeHuisdiervriendelijk: nee</p><p>Dit evenement is rolstoelvriendelijk.</p><p>Dit evenement is niet huisdiervriendelijk.</p>
DESCRIPTION:<a href='/agenda/2026/7/4/sompop-festival-2026-334062'>/agenda/2026/7/4/sompop-festival-2026-334062</a> || <p>In De Waal wordt op zaterdag 4 juli het festival SomPop georganiseerd. Vanaf 12:00 uur gaan de poorten open voor twaalf uur top entertainment. Verdeeld over vier area’s wordt er muziek en vertier geboden voor alle smaken. Laat je verrassen! Rolstoelvriendelijk: neeHuisdiervriendelijk: nee</p><p>Dit evenement is rolstoelvriendelijk.</p><p>Dit evenement is niet huisdiervriendelijk.</p>
LAST-MODIFIED:20260423T103815Z
LOCATION: Centrum Groen van Hart | Hogereind 33b De Waal
SEQUENCE:0
STATUS:CONFIRMED
SUMMARY:SomPop Festival 2026
TRANSP:OPAQUE
END:VEVENT
END:VCALENDAR
