BEGIN:VCALENDAR
PRODID:-//PUBBLE//agenda//NL
VERSION:2.0
METHOD:PUBLISH
BEGIN:VEVENT
DTSTART:20261003T080000Z
DTEND:20261004T140000Z
DTSTAMP:20260423T231626Z
UID:a658d71b-f01d-4ef6-a57a-08b030af6f5a
CREATED:20260423T231626Z
NAME:Kitebuggy Clubraces 2026 texelagenda.nl
X-WR-CALNAME:Kitebuggy Clubraces 2026
X-ALT-DESC;FMTTYPE=text/html:<a href='/agenda/2026/10/3/kitebuggy-clubraces-2026-334065'>/agenda/2026/10/3/kitebuggy-clubraces-2026-334065</a> || <p>Dit weekend wordt op het strand bij de Vuurtoren een wedstrijd gereden die meetelt voor het NK Kitebugy georganiseerd door de Buggy Club Holland. Locatie: het strand ten zuiden van de vuurtoren bij Paal 30.</p><p>Dit evenement is niet rolstoelvriendelijk.</p><p>Dit evenement is huisdiervriendelijk.</p>
DESCRIPTION:<a href='/agenda/2026/10/3/kitebuggy-clubraces-2026-334065'>/agenda/2026/10/3/kitebuggy-clubraces-2026-334065</a> || <p>Dit weekend wordt op het strand bij de Vuurtoren een wedstrijd gereden die meetelt voor het NK Kitebugy georganiseerd door de Buggy Club Holland. Locatie: het strand ten zuiden van de vuurtoren bij Paal 30.</p><p>Dit evenement is niet rolstoelvriendelijk.</p><p>Dit evenement is huisdiervriendelijk.</p>
LAST-MODIFIED:20260423T231626Z
LOCATION: Vuurtoren De Cocksdorp | Vuurtorenweg 184 De Cocksdorp
SEQUENCE:0
STATUS:CONFIRMED
SUMMARY:Kitebuggy Clubraces 2026
TRANSP:OPAQUE
END:VEVENT
END:VCALENDAR
