BEGIN:VCALENDAR
PRODID:-//PUBBLE//agenda//NL
VERSION:2.0
METHOD:PUBLISH
BEGIN:VEVENT
DTSTART:20260427T140000Z
DTEND:20260427T220000Z
DTSTAMP:20260423T112924Z
UID:92c5abda-c935-4bc3-9acd-024a57b92c88
CREATED:20260423T112924Z
NAME:Koningsdag 2026 texelagenda.nl
X-WR-CALNAME:Koningsdag 2026
X-ALT-DESC;FMTTYPE=text/html:<a href='/agenda/2026/4/27/koningsdag-2026-334082'>/agenda/2026/4/27/koningsdag-2026-334082</a> || <p>Op Koningsdag kunt u in het park in het centrum van Den Burg genieten van livemuziek, een hapje en een drankje. O.a. in het park en in de Waalderstraat.</p><p>Dit evenement is rolstoelvriendelijk.</p><p>Dit evenement is huisdiervriendelijk.</p>
DESCRIPTION:<a href='/agenda/2026/4/27/koningsdag-2026-334082'>/agenda/2026/4/27/koningsdag-2026-334082</a> || <p>Op Koningsdag kunt u in het park in het centrum van Den Burg genieten van livemuziek, een hapje en een drankje. O.a. in het park en in de Waalderstraat.</p><p>Dit evenement is rolstoelvriendelijk.</p><p>Dit evenement is huisdiervriendelijk.</p>
LAST-MODIFIED:20260423T112924Z
LOCATION: Het Glazen Paleis | Vismarkt 7 Den Burg
SEQUENCE:0
STATUS:CONFIRMED
SUMMARY:Koningsdag 2026
TRANSP:OPAQUE
END:VEVENT
END:VCALENDAR
