BEGIN:VCALENDAR
PRODID:-//PUBBLE//agenda//NL
VERSION:2.0
METHOD:PUBLISH
BEGIN:VEVENT
DTSTART:20260430T135400Z
DTEND:20260430T145400Z
DTSTAMP:20260422T092423Z
UID:1dabcade-535b-4ba9-8ba7-a9213c6e6000
CREATED:20260422T092423Z
NAME:Meierblis 2026 texelagenda.nl
X-WR-CALNAME:Meierblis 2026
X-ALT-DESC;FMTTYPE=text/html:<a href='/agenda/2026/4/30/meierblis-2026-334083'>/agenda/2026/4/30/meierblis-2026-334083</a> || <p>Op het gehele eiland worden vandaag de traditionele Meierblissen ontstoken. De blissen bij de dorpen zijn vrij te bezoeken. </p><p>Dit evenement is rolstoelvriendelijk.</p><p>Dit evenement is niet huisdiervriendelijk.</p>
DESCRIPTION:<a href='/agenda/2026/4/30/meierblis-2026-334083'>/agenda/2026/4/30/meierblis-2026-334083</a> || <p>Op het gehele eiland worden vandaag de traditionele Meierblissen ontstoken. De blissen bij de dorpen zijn vrij te bezoeken. </p><p>Dit evenement is rolstoelvriendelijk.</p><p>Dit evenement is niet huisdiervriendelijk.</p>
LAST-MODIFIED:20260422T092423Z
LOCATION: Gehele Eiland |   Texel
SEQUENCE:0
STATUS:CONFIRMED
SUMMARY:Meierblis 2026
TRANSP:OPAQUE
END:VEVENT
END:VCALENDAR
