BEGIN:VCALENDAR
PRODID:-//PUBBLE//agenda//NL
VERSION:2.0
METHOD:PUBLISH
BEGIN:VEVENT
DTSTART:20260530T141100Z
DTEND:20260531T141100Z
DTSTAMP:20260423T112834Z
UID:f0b1c85e-cf56-49ab-aff2-1b008c55b7f6
CREATED:20260423T112834Z
NAME:Tevoko Buitentoernooi 2026 texelagenda.nl
X-WR-CALNAME:Tevoko Buitentoernooi 2026
X-ALT-DESC;FMTTYPE=text/html:<a href='/agenda/2026/5/30/tevoko-buitentoernooi-2026-334087'>/agenda/2026/5/30/tevoko-buitentoernooi-2026-334087</a> || <p>Dit weekend vindt het TEVOKO buitentoernooi plaats. Sportief en gezellig volleybaltoernooi op een heerlijk beschutte en zonnige speelweide van Staatsbosbeheer. </p><p>Dit evenement is rolstoelvriendelijk.</p><p>Dit evenement is huisdiervriendelijk.</p>
DESCRIPTION:<a href='/agenda/2026/5/30/tevoko-buitentoernooi-2026-334087'>/agenda/2026/5/30/tevoko-buitentoernooi-2026-334087</a> || <p>Dit weekend vindt het TEVOKO buitentoernooi plaats. Sportief en gezellig volleybaltoernooi op een heerlijk beschutte en zonnige speelweide van Staatsbosbeheer. </p><p>Dit evenement is rolstoelvriendelijk.</p><p>Dit evenement is huisdiervriendelijk.</p>
LAST-MODIFIED:20260423T112834Z
LOCATION: Speelveld Ploeglanderweg | Ploeglanderweg 6 Den Burg
SEQUENCE:0
STATUS:CONFIRMED
SUMMARY:Tevoko Buitentoernooi 2026
TRANSP:OPAQUE
END:VEVENT
END:VCALENDAR
