BEGIN:VCALENDAR
PRODID:-//PUBBLE//agenda//NL
VERSION:2.0
METHOD:PUBLISH
BEGIN:VEVENT
DTSTART:20260516T110000Z
DTEND:20260516T160000Z
DTSTAMP:20260423T163435Z
UID:06828127-ad57-45a8-8997-9edb0eb5dd04
CREATED:20260423T163435Z
NAME:Bute 2026 texelagenda.nl
X-WR-CALNAME:Bute 2026
X-ALT-DESC;FMTTYPE=text/html:<a href='/agenda/2026/5/16/bute-2026-334089'>/agenda/2026/5/16/bute-2026-334089</a> || <p>Lions Club Texel presenteert een gezellig evenement op het terrein van Landgoed de Bonte Belevenis bij Den Hoorn: met o.a. de Lionsveiling. Tot 18:00 uur. </p><p>Dit evenement is rolstoelvriendelijk.</p><p>Dit evenement is huisdiervriendelijk.</p>
DESCRIPTION:<a href='/agenda/2026/5/16/bute-2026-334089'>/agenda/2026/5/16/bute-2026-334089</a> || <p>Lions Club Texel presenteert een gezellig evenement op het terrein van Landgoed de Bonte Belevenis bij Den Hoorn: met o.a. de Lionsveiling. Tot 18:00 uur. </p><p>Dit evenement is rolstoelvriendelijk.</p><p>Dit evenement is huisdiervriendelijk.</p>
LAST-MODIFIED:20260423T163435Z
LOCATION: De Bonte Belevenis | Rommelpot 11 Den Hoorn
SEQUENCE:0
STATUS:CONFIRMED
SUMMARY:Bute 2026
TRANSP:OPAQUE
END:VEVENT
END:VCALENDAR
