BEGIN:VCALENDAR
PRODID:-//PUBBLE//agenda//NL
VERSION:2.0
METHOD:PUBLISH
BEGIN:VEVENT
DTSTART:20260601T150000Z
DTEND:20260604T180000Z
DTSTAMP:20260423T112835Z
UID:626c3604-9d98-437e-99fc-fbafe3f34b6e
CREATED:20260423T112835Z
NAME:Avondvierdaagse 2026 texelagenda.nl
X-WR-CALNAME:Avondvierdaagse 2026
X-ALT-DESC;FMTTYPE=text/html:<a href='/agenda/2026/6/1/avondvierdaagse-2026-334097'>/agenda/2026/6/1/avondvierdaagse-2026-334097</a> || <p>Bij Schietsportcentrum Odysseus begint vandaag de Avondvierdaagse. De 15 km start vanaf 17.00 uur, de 5 en 10 km vanaf 17.30 uur. </p><p>Dit evenement is niet rolstoelvriendelijk.</p><p>Dit evenement is huisdiervriendelijk.</p>
DESCRIPTION:<a href='/agenda/2026/6/1/avondvierdaagse-2026-334097'>/agenda/2026/6/1/avondvierdaagse-2026-334097</a> || <p>Bij Schietsportcentrum Odysseus begint vandaag de Avondvierdaagse. De 15 km start vanaf 17.00 uur, de 5 en 10 km vanaf 17.30 uur. </p><p>Dit evenement is niet rolstoelvriendelijk.</p><p>Dit evenement is huisdiervriendelijk.</p>
LAST-MODIFIED:20260423T112835Z
LOCATION: Schietsportcentrum Odysseus | Emmalaan 65 Den Burg
SEQUENCE:0
STATUS:CONFIRMED
SUMMARY:Avondvierdaagse 2026
TRANSP:OPAQUE
END:VEVENT
END:VCALENDAR
