BEGIN:VCALENDAR
PRODID:-//PUBBLE//agenda//NL
VERSION:2.0
METHOD:PUBLISH
BEGIN:VEVENT
DTSTART:20260723T100000Z
DTEND:20260723T180000Z
DTSTAMP:20260424T032904Z
UID:ab130c2a-4438-41f6-963c-77773e098fff
CREATED:20260424T032904Z
NAME:Landbouwdag 2026 texelagenda.nl
X-WR-CALNAME:Landbouwdag 2026
X-ALT-DESC;FMTTYPE=text/html:<a href='/agenda/2026/7/23/landbouwdag-2026-334104'>/agenda/2026/7/23/landbouwdag-2026-334104</a> || <p>Beleef de veelzijdigheid van de Texelse landbouw aan de rand van Den Hoorn. Machines, dieren, concours hippique en nog veel meer. Alle aspecten van de moderne Texelse landbouw worden gepresenteerd. Onder andere concours hippique, boerenerf, schapenkeuring, kleindieren, moderne en ouderwetse landbouwmachines. Verder is er uitgebreide markt en er is van alles te beleven voor de kinderen. </p><p>Dit evenement is rolstoelvriendelijk.</p><p>Dit evenement is huisdiervriendelijk.</p>
DESCRIPTION:<a href='/agenda/2026/7/23/landbouwdag-2026-334104'>/agenda/2026/7/23/landbouwdag-2026-334104</a> || <p>Beleef de veelzijdigheid van de Texelse landbouw aan de rand van Den Hoorn. Machines, dieren, concours hippique en nog veel meer. Alle aspecten van de moderne Texelse landbouw worden gepresenteerd. Onder andere concours hippique, boerenerf, schapenkeuring, kleindieren, moderne en ouderwetse landbouwmachines. Verder is er uitgebreide markt en er is van alles te beleven voor de kinderen. </p><p>Dit evenement is rolstoelvriendelijk.</p><p>Dit evenement is huisdiervriendelijk.</p>
LAST-MODIFIED:20260424T032904Z
LOCATION: De Hoeksteen | Kerkstraat 3 Den Hoorn
SEQUENCE:0
STATUS:CONFIRMED
SUMMARY:Landbouwdag 2026
TRANSP:OPAQUE
END:VEVENT
END:VCALENDAR
