BEGIN:VCALENDAR
PRODID:-//PUBBLE//agenda//NL
VERSION:2.0
METHOD:PUBLISH
BEGIN:VEVENT
DTSTART:20260724T130000Z
DTEND:20260724T220000Z
DTSTAMP:20260424T035548Z
UID:0631d945-f556-4212-9484-ff11136a1f67
CREATED:20260424T035548Z
NAME:Sunny Side Up 2026 texelagenda.nl
X-WR-CALNAME:Sunny Side Up 2026
X-ALT-DESC;FMTTYPE=text/html:<a href='/agenda/2026/7/24/sunny-side-up-2026-334105'>/agenda/2026/7/24/sunny-side-up-2026-334105</a> || <p>Sunny Side Up is de naam van een kleinschalig en intiem tweedaags strandfestival, dat dit weekend plaatsvindt bij Strandpaviljoen Twaalf. </p><p>Dit evenement is rolstoelvriendelijk.</p><p>Dit evenement is niet huisdiervriendelijk.</p>
DESCRIPTION:<a href='/agenda/2026/7/24/sunny-side-up-2026-334105'>/agenda/2026/7/24/sunny-side-up-2026-334105</a> || <p>Sunny Side Up is de naam van een kleinschalig en intiem tweedaags strandfestival, dat dit weekend plaatsvindt bij Strandpaviljoen Twaalf. </p><p>Dit evenement is rolstoelvriendelijk.</p><p>Dit evenement is niet huisdiervriendelijk.</p>
LAST-MODIFIED:20260424T035548Z
LOCATION: Strandpaviljoen Paal 12 | Jan Ayeslag 2 Den Hoorn
SEQUENCE:0
STATUS:CONFIRMED
SUMMARY:Sunny Side Up 2026
TRANSP:OPAQUE
END:VEVENT
END:VCALENDAR
