BEGIN:VCALENDAR
PRODID:-//PUBBLE//agenda//NL
VERSION:2.0
METHOD:PUBLISH
BEGIN:VEVENT
DTSTART:20260815T100000Z
DTEND:20260815T210000Z
DTSTAMP:20260420T143013Z
UID:8c590c2f-d2f7-4c0c-b06b-aaf0d45366df
CREATED:20260420T143013Z
NAME:Strenderpop 2026 texelagenda.nl
X-WR-CALNAME:Strenderpop 2026
X-ALT-DESC;FMTTYPE=text/html:<a href='/agenda/2026/8/15/strenderpop-2026-334106'>/agenda/2026/8/15/strenderpop-2026-334106</a> || <p>In de muzieknis in Oosterend begint Strenderpop. Een kleinschalig muziekfeestje met diverse optredens van zowel jonge als ervaren Texelse muzikanten. </p><p>Dit evenement is rolstoelvriendelijk.</p><p>Dit evenement is niet huisdiervriendelijk.</p>
DESCRIPTION:<a href='/agenda/2026/8/15/strenderpop-2026-334106'>/agenda/2026/8/15/strenderpop-2026-334106</a> || <p>In de muzieknis in Oosterend begint Strenderpop. Een kleinschalig muziekfeestje met diverse optredens van zowel jonge als ervaren Texelse muzikanten. </p><p>Dit evenement is rolstoelvriendelijk.</p><p>Dit evenement is niet huisdiervriendelijk.</p>
LAST-MODIFIED:20260420T143013Z
LOCATION: Muzieknis Oosterend | Oranjestraat 10 Oosterend
SEQUENCE:0
STATUS:CONFIRMED
SUMMARY:Strenderpop 2026
TRANSP:OPAQUE
END:VEVENT
END:VCALENDAR
