BEGIN:VCALENDAR
PRODID:-//PUBBLE//agenda//NL
VERSION:2.0
METHOD:PUBLISH
BEGIN:VEVENT
DTSTART:20260912T100000Z
DTEND:20260912T180000Z
DTSTAMP:20260424T033022Z
UID:9f443c61-f3b5-4da5-813e-ef046122e455
CREATED:20260424T033022Z
NAME:Visrookwedstrijd 2026 texelagenda.nl
X-WR-CALNAME:Visrookwedstrijd 2026
X-ALT-DESC;FMTTYPE=text/html:<a href='/agenda/2026/9/12/visrookwedstrijd-2026-334182'>/agenda/2026/9/12/visrookwedstrijd-2026-334182</a> || <p>In Oosterend wordt bij Het Cafeetje een visrookwedstrijd gehouden met rooksels van poon en sliptong. Er wordt vis verkocht, er is muziek en er worden visserijfilms vertoond. </p><p>Dit evenement is rolstoelvriendelijk.</p><p>Dit evenement is niet huisdiervriendelijk.</p>
DESCRIPTION:<a href='/agenda/2026/9/12/visrookwedstrijd-2026-334182'>/agenda/2026/9/12/visrookwedstrijd-2026-334182</a> || <p>In Oosterend wordt bij Het Cafeetje een visrookwedstrijd gehouden met rooksels van poon en sliptong. Er wordt vis verkocht, er is muziek en er worden visserijfilms vertoond. </p><p>Dit evenement is rolstoelvriendelijk.</p><p>Dit evenement is niet huisdiervriendelijk.</p>
LAST-MODIFIED:20260424T033022Z
LOCATION: 't Cafeetje | Kerkstraat 7 Oosterend
SEQUENCE:0
STATUS:CONFIRMED
SUMMARY:Visrookwedstrijd 2026
TRANSP:OPAQUE
END:VEVENT
END:VCALENDAR
