BEGIN:VCALENDAR
PRODID:-//PUBBLE//agenda//NL
VERSION:2.0
METHOD:PUBLISH
BEGIN:VEVENT
DTSTART:20260918T090000Z
DTEND:20260920T144000Z
DTSTAMP:20260421T155206Z
UID:6ad1e8f9-4457-4c5c-8f73-17de1682ce97
CREATED:20260421T155206Z
NAME:Samengestelde Men Wedstrijd 2026 texelagenda.nl
X-WR-CALNAME:Samengestelde Men Wedstrijd 2026
X-ALT-DESC;FMTTYPE=text/html:<a href='/agenda/2026/9/18/samengestelde-men-wedstrijd-2026-334186'>/agenda/2026/9/18/samengestelde-men-wedstrijd-2026-334186</a> || <p>Dit weekend organiseert paardensportvereniging Texel haar jaarlijkse Samengestelde Men Wedstrijd (SMW). Op verschillende plekken bij de manege en in De Westen zijn hindernissen opgesteld. </p><p>Dit evenement is rolstoelvriendelijk.</p><p>Dit evenement is niet huisdiervriendelijk.</p>
DESCRIPTION:<a href='/agenda/2026/9/18/samengestelde-men-wedstrijd-2026-334186'>/agenda/2026/9/18/samengestelde-men-wedstrijd-2026-334186</a> || <p>Dit weekend organiseert paardensportvereniging Texel haar jaarlijkse Samengestelde Men Wedstrijd (SMW). Op verschillende plekken bij de manege en in De Westen zijn hindernissen opgesteld. </p><p>Dit evenement is rolstoelvriendelijk.</p><p>Dit evenement is niet huisdiervriendelijk.</p>
LAST-MODIFIED:20260421T155206Z
LOCATION: Manege Akenburg | Akenbuurt 20 Den Burg
SEQUENCE:0
STATUS:CONFIRMED
SUMMARY:Samengestelde Men Wedstrijd 2026
TRANSP:OPAQUE
END:VEVENT
END:VCALENDAR
