BEGIN:VCALENDAR
PRODID:-//PUBBLE//agenda//NL
VERSION:2.0
METHOD:PUBLISH
BEGIN:VEVENT
DTSTART:20261030T180000Z
DTEND:20261031T072300Z
DTSTAMP:20260422T130254Z
UID:6c4980db-2847-4a8d-82d1-67886b455c39
CREATED:20260422T130254Z
NAME:Wampex 2.0 - editie 2026 texelagenda.nl
X-WR-CALNAME:Wampex 2.0 - editie 2026
X-ALT-DESC;FMTTYPE=text/html:<a href='/agenda/2026/10/30/wampex-2-0-editie-2026-334210'>/agenda/2026/10/30/wampex-2-0-editie-2026-334210</a> || <p>Het weekend van vrijdag 30 en zaterdag 31 oktober belooft een nieuw weekend van afzien, doorzetten en een scala aan opdrachten te worden. Dan wordt voor de vierde keer de Wampex 2.0 gehouden. Dat heeft de organisatie laten weten. De organisatie is in handen van Esther Duinker, Richard Bousma, Pepijn Kooiman, Tom Bijl en Cindy de Ridder. Volgens goed gebruik weten zij precies wat ze aan het voorbereiden zijn, tenzij ernaar gevraagd wordt, dan weten ze van niets. Volgens de organisatoren belooft de Wampex 2.0 opnieuw ‘net even aars’ te worden.&nbsp;</p><p>Het fenomeen Wampex bestaat op Texel sinds 1980. In 2011 kwam er een nieuwe organisatie, die tien jaar de naam Waanzin hanteerde en in 2022 werd het stokje overgenomen door de huidige organisatie, die de naam Wampex 2.0 introduceerde. De organisatie laat weten dat de hulp van vrijwilligers zeer op prijs wordt gesteld.</p><p>Dit evenement is niet rolstoelvriendelijk.</p><p>Dit evenement is niet huisdiervriendelijk.</p>
DESCRIPTION:<a href='/agenda/2026/10/30/wampex-2-0-editie-2026-334210'>/agenda/2026/10/30/wampex-2-0-editie-2026-334210</a> || <p>Het weekend van vrijdag 30 en zaterdag 31 oktober belooft een nieuw weekend van afzien, doorzetten en een scala aan opdrachten te worden. Dan wordt voor de vierde keer de Wampex 2.0 gehouden. Dat heeft de organisatie laten weten. De organisatie is in handen van Esther Duinker, Richard Bousma, Pepijn Kooiman, Tom Bijl en Cindy de Ridder. Volgens goed gebruik weten zij precies wat ze aan het voorbereiden zijn, tenzij ernaar gevraagd wordt, dan weten ze van niets. Volgens de organisatoren belooft de Wampex 2.0 opnieuw ‘net even aars’ te worden.&nbsp;</p><p>Het fenomeen Wampex bestaat op Texel sinds 1980. In 2011 kwam er een nieuwe organisatie, die tien jaar de naam Waanzin hanteerde en in 2022 werd het stokje overgenomen door de huidige organisatie, die de naam Wampex 2.0 introduceerde. De organisatie laat weten dat de hulp van vrijwilligers zeer op prijs wordt gesteld.</p><p>Dit evenement is niet rolstoelvriendelijk.</p><p>Dit evenement is niet huisdiervriendelijk.</p>
LAST-MODIFIED:20260422T130254Z
LOCATION: Gehele Eiland |   Texel
SEQUENCE:0
STATUS:CONFIRMED
SUMMARY:Wampex 2.0 - editie 2026
TRANSP:OPAQUE
END:VEVENT
END:VCALENDAR
