BEGIN:VCALENDAR
PRODID:-//PUBBLE//agenda//NL
VERSION:2.0
METHOD:PUBLISH
BEGIN:VEVENT
DTSTART:20260501T140000Z
DTEND:20260501T144500Z
DTSTAMP:20260422T142024Z
UID:6d604217-cc77-4bef-8db4-be4b614c8b6d
CREATED:20260422T142024Z
NAME:Christian Farla op Texel! texelagenda.nl
X-WR-CALNAME:Christian Farla op Texel!
X-ALT-DESC;FMTTYPE=text/html:<a href='/agenda/2026/5/1/christian-farla-op-texel--334281'>/agenda/2026/5/1/christian-farla-op-texel--334281</a> || <p>Bereid u voor op een middag vol verbazingwekkende illusies en spectaculaire special effects voor de hele familie in Evenementenhal Texel! Meesterillusionist Christian Farla en zijn 2 assistentes zorgen voor een exclusieve show die u niet snel zult vergeten. </p><p>Dit evenement is rolstoelvriendelijk.</p><p>Dit evenement is niet huisdiervriendelijk.</p>
DESCRIPTION:<a href='/agenda/2026/5/1/christian-farla-op-texel--334281'>/agenda/2026/5/1/christian-farla-op-texel--334281</a> || <p>Bereid u voor op een middag vol verbazingwekkende illusies en spectaculaire special effects voor de hele familie in Evenementenhal Texel! Meesterillusionist Christian Farla en zijn 2 assistentes zorgen voor een exclusieve show die u niet snel zult vergeten. </p><p>Dit evenement is rolstoelvriendelijk.</p><p>Dit evenement is niet huisdiervriendelijk.</p>
LAST-MODIFIED:20260422T142024Z
LOCATION: Vakantiepark De Krim - Evenementehal | Roggeslootweg 6 De Cocksdorp
SEQUENCE:0
STATUS:CONFIRMED
SUMMARY:Christian Farla op Texel!
TRANSP:OPAQUE
END:VEVENT
END:VCALENDAR
