BEGIN:VCALENDAR
PRODID:-//PUBBLE//agenda//NL
VERSION:2.0
METHOD:PUBLISH
BEGIN:VEVENT
DTSTART:20260424T090000Z
DTEND:20260524T053900Z
DTSTAMP:20260422T002505Z
UID:d31f920c-7a67-4dcb-826f-b50f38d0f6ec
CREATED:20260422T002505Z
NAME:Steenuil (vogel van het jaar) texelagenda.nl
X-WR-CALNAME:Steenuil (vogel van het jaar)
X-ALT-DESC;FMTTYPE=text/html:<a href='/agenda/2026/4/24/steenuil-vogel-van-het-jaar--334302'>/agenda/2026/4/24/steenuil-vogel-van-het-jaar--334302</a> || <p>Galerie Posthuys viert in 2026 haar 20-jarig bestaan met een groepstentoonstellingen waarin bekende kunstenaars van de galerie alsook nieuwe kunstenaars worden gepresenteerd. De derde groepstentoonstelling in 2026 is Het Jaar Van De Steenuil.&nbsp;</p><p>Sovon Vogelonderzoek en Vogelbescherming Nederland hebben de steenuil uitgeroepen tot vogel van het jaar 2026. De kunstenaars van de galerie gingen er meteen na de verkiezing mee aan de slag en tijdens de groepsexpositie zijn schilderijen, grafiek, keramische en bronzen sculpturen te zien. Met nieuwe werken van o.a. Stella Burggraaf, Arno Goossens, Jan Grotenbreg, Laura Hoek, Gerrie Lulof, Marianne Vergouwen en Marc van der Zwet.Galerie Posthuys (Brink 14, De Koog) is open van woensdag t/m zondag van 11 tot 17 uur.</p><p>Dit evenement is rolstoelvriendelijk.</p><p>Dit evenement is huisdiervriendelijk.</p>
DESCRIPTION:<a href='/agenda/2026/4/24/steenuil-vogel-van-het-jaar--334302'>/agenda/2026/4/24/steenuil-vogel-van-het-jaar--334302</a> || <p>Galerie Posthuys viert in 2026 haar 20-jarig bestaan met een groepstentoonstellingen waarin bekende kunstenaars van de galerie alsook nieuwe kunstenaars worden gepresenteerd. De derde groepstentoonstelling in 2026 is Het Jaar Van De Steenuil.&nbsp;</p><p>Sovon Vogelonderzoek en Vogelbescherming Nederland hebben de steenuil uitgeroepen tot vogel van het jaar 2026. De kunstenaars van de galerie gingen er meteen na de verkiezing mee aan de slag en tijdens de groepsexpositie zijn schilderijen, grafiek, keramische en bronzen sculpturen te zien. Met nieuwe werken van o.a. Stella Burggraaf, Arno Goossens, Jan Grotenbreg, Laura Hoek, Gerrie Lulof, Marianne Vergouwen en Marc van der Zwet.Galerie Posthuys (Brink 14, De Koog) is open van woensdag t/m zondag van 11 tot 17 uur.</p><p>Dit evenement is rolstoelvriendelijk.</p><p>Dit evenement is huisdiervriendelijk.</p>
LAST-MODIFIED:20260422T002505Z
LOCATION: Galerie Posthuys | Brink 14 De Koog
SEQUENCE:0
STATUS:CONFIRMED
SUMMARY:Steenuil (vogel van het jaar)
TRANSP:OPAQUE
END:VEVENT
END:VCALENDAR
