BEGIN:VCALENDAR
PRODID:-//PUBBLE//agenda//NL
VERSION:2.0
METHOD:PUBLISH
BEGIN:VEVENT
DTSTART:20260426T090000Z
DTEND:20260426T160000Z
DTSTAMP:20260426T032213Z
UID:8a037883-d07b-4ee5-923a-e60221cf8001
CREATED:20260426T032213Z
NAME:Lentefair texelagenda.nl
X-WR-CALNAME:Lentefair
X-ALT-DESC;FMTTYPE=text/html:<a href='/agenda/2026/4/26/lentefair-334334'>/agenda/2026/4/26/lentefair-334334</a> || <p>Tijdens de Lentefair wordt er van het centrumplein op Vakantiepark De Krim een sfeervolle lentemarkt gemaakt. Er zullen allerlei verschillende kraampjes staan van diverse (lokale) bedrijven en er staan leuke kinderactiviteiten op de planning. Genoeg vertier voor iedereen, dus kom ook gezellig langs. Het belooft een mooie dag te worden! </p><p>Dit evenement is rolstoelvriendelijk.</p><p>Dit evenement is huisdiervriendelijk.</p>
DESCRIPTION:<a href='/agenda/2026/4/26/lentefair-334334'>/agenda/2026/4/26/lentefair-334334</a> || <p>Tijdens de Lentefair wordt er van het centrumplein op Vakantiepark De Krim een sfeervolle lentemarkt gemaakt. Er zullen allerlei verschillende kraampjes staan van diverse (lokale) bedrijven en er staan leuke kinderactiviteiten op de planning. Genoeg vertier voor iedereen, dus kom ook gezellig langs. Het belooft een mooie dag te worden! </p><p>Dit evenement is rolstoelvriendelijk.</p><p>Dit evenement is huisdiervriendelijk.</p>
LAST-MODIFIED:20260426T032213Z
LOCATION: Vakantiepark De Krim - Centrum | Roggeslootweg 6 De Cocksdorp
SEQUENCE:0
STATUS:CONFIRMED
SUMMARY:Lentefair
TRANSP:OPAQUE
END:VEVENT
END:VCALENDAR
