BEGIN:VCALENDAR
PRODID:-//PUBBLE//agenda//NL
VERSION:2.0
METHOD:PUBLISH
BEGIN:VEVENT
DTSTART:20260627T190000Z
DTEND:20260626T230000Z
DTSTAMP:20260422T132637Z
UID:ff1a3b17-6f4b-43ca-9391-c7d60d0e38aa
CREATED:20260422T132637Z
NAME:Beach Boys’ Best texelagenda.nl
X-WR-CALNAME:Beach Boys’ Best
X-ALT-DESC;FMTTYPE=text/html:<a href='/agenda/2026/6/27/beach-boys-best-334635'>/agenda/2026/6/27/beach-boys-best-334635</a> || <p>Zin in een zomerse avond vol nostalgie, zon en surfmuziek? Op zaterdag 27 juni 2026 komen de winnaars van The Tribute: Battle of the Bands naar Texel! Beach Boys’ Best brengt een feest van herkenning met de allergrootste hits van The Beach Boys. Laat u meevoeren door de vrolijke vibes van de jaren 60 in een spetterende show in Evenementenhal Texel. </p><p>Dit evenement is rolstoelvriendelijk.</p><p>Dit evenement is niet huisdiervriendelijk.</p>
DESCRIPTION:<a href='/agenda/2026/6/27/beach-boys-best-334635'>/agenda/2026/6/27/beach-boys-best-334635</a> || <p>Zin in een zomerse avond vol nostalgie, zon en surfmuziek? Op zaterdag 27 juni 2026 komen de winnaars van The Tribute: Battle of the Bands naar Texel! Beach Boys’ Best brengt een feest van herkenning met de allergrootste hits van The Beach Boys. Laat u meevoeren door de vrolijke vibes van de jaren 60 in een spetterende show in Evenementenhal Texel. </p><p>Dit evenement is rolstoelvriendelijk.</p><p>Dit evenement is niet huisdiervriendelijk.</p>
LAST-MODIFIED:20260422T132637Z
LOCATION: Evenementenhal Texel - De Krim | Roggeslootweg 6 De Cocksdorp
SEQUENCE:0
STATUS:CONFIRMED
SUMMARY:Beach Boys’ Best
TRANSP:OPAQUE
END:VEVENT
END:VCALENDAR
