BEGIN:VCALENDAR
PRODID:-//PUBBLE//agenda//NL
VERSION:2.0
METHOD:PUBLISH
BEGIN:VEVENT
DTSTART:20260423T073000Z
DTEND:20260423T090000Z
DTSTAMP:20260422T002356Z
UID:7e7d23cf-5e0f-475f-97af-4d2e1b47a76e
CREATED:20260422T002356Z
NAME:Sleepnetvissen texelagenda.nl
X-WR-CALNAME:Sleepnetvissen
X-ALT-DESC;FMTTYPE=text/html:<a href='/agenda/2026/4/23/sleepnetvissen-334882'>/agenda/2026/4/23/sleepnetvissen-334882</a> || De zee zit vol leven, maar hoe krijg je al die dieren te zien? Door ze boven water te halen! Met een groot sleepnet ga je vissen in de branding. Jij mag zelf, met de rest van de groep, het net met een touw door het water trekken. Je wordt niet nat, want het trekken gebeurt op het strand. De gids zorgt ervoor dat het net in het water blijft. Het is altijd spannend wat je erin aantreft. Natuurlijk gaan alle dieren, nadat ze zijn bekeken, weer terug naar zee.  Vanaf 4 jr. Info bij Ecomare, 0222-317741, boeken via www.ecomare.nl/excursies. Deelname €12,-
DESCRIPTION:<a href='/agenda/2026/4/23/sleepnetvissen-334882'>/agenda/2026/4/23/sleepnetvissen-334882</a> || De zee zit vol leven, maar hoe krijg je al die dieren te zien? Door ze boven water te halen! Met een groot sleepnet ga je vissen in de branding. Jij mag zelf, met de rest van de groep, het net met een touw door het water trekken. Je wordt niet nat, want het trekken gebeurt op het strand. De gids zorgt ervoor dat het net in het water blijft. Het is altijd spannend wat je erin aantreft. Natuurlijk gaan alle dieren, nadat ze zijn bekeken, weer terug naar zee.  Vanaf 4 jr. Info bij Ecomare, 0222-317741, boeken via www.ecomare.nl/excursies. Deelname €12,-
LAST-MODIFIED:20260422T002356Z
LOCATION: Ecomare | Ruijslaan 92 De Koog
SEQUENCE:0
STATUS:CONFIRMED
SUMMARY:Sleepnetvissen
TRANSP:OPAQUE
END:VEVENT
END:VCALENDAR
