BEGIN:VCALENDAR
PRODID:-//PUBBLE//agenda//NL
VERSION:2.0
METHOD:PUBLISH
BEGIN:VEVENT
DTSTART:20260429T120000Z
DTEND:20260429T140000Z
DTSTAMP:20260422T092423Z
UID:4d374307-9f62-4410-ac3d-e0f1b9621224
CREATED:20260422T092423Z
NAME:Slufterbelevenis texelagenda.nl
X-WR-CALNAME:Slufterbelevenis
X-ALT-DESC;FMTTYPE=text/html:<a href='/agenda/2026/4/29/slufterbelevenis-334889'>/agenda/2026/4/29/slufterbelevenis-334889</a> || Springen, kruipen, zoeken, proeven en vissen. Ga op ontdekkingstocht in natuurgebied De Slufter met het hele gezin!&nbsp;De Slufter is een van de meest bijzondere natuurgebieden op Texel. De zee komt er een heel eind het land binnen en dat heeft een grote invloed op de planten en dieren die er leven. Met duwnetjes ga je zelf op zoek naar de dieren die er in het water leven.  Vanaf 5 jr. Info bij Ecomare, 0222-317741, boeken via www.ecomare.nl. Volw €18, kind t/m 12 €12.
DESCRIPTION:<a href='/agenda/2026/4/29/slufterbelevenis-334889'>/agenda/2026/4/29/slufterbelevenis-334889</a> || Springen, kruipen, zoeken, proeven en vissen. Ga op ontdekkingstocht in natuurgebied De Slufter met het hele gezin!&nbsp;De Slufter is een van de meest bijzondere natuurgebieden op Texel. De zee komt er een heel eind het land binnen en dat heeft een grote invloed op de planten en dieren die er leven. Met duwnetjes ga je zelf op zoek naar de dieren die er in het water leven.  Vanaf 5 jr. Info bij Ecomare, 0222-317741, boeken via www.ecomare.nl. Volw €18, kind t/m 12 €12.
LAST-MODIFIED:20260422T092423Z
LOCATION: Ecomare | Ruijslaan 92 De Koog
SEQUENCE:0
STATUS:CONFIRMED
SUMMARY:Slufterbelevenis
TRANSP:OPAQUE
END:VEVENT
END:VCALENDAR
