BEGIN:VCALENDAR
PRODID:-//PUBBLE//agenda//NL
VERSION:2.0
METHOD:PUBLISH
BEGIN:VEVENT
DTSTART:20260530T180000Z
DTEND:20260530T210000Z
DTSTAMP:20260423T112656Z
UID:b1f55ae1-3ef2-4a85-88a1-61c7a0f336b9
CREATED:20260423T112656Z
NAME:Bernd speelt Freddie Mercury texelagenda.nl
X-WR-CALNAME:Bernd speelt Freddie Mercury
X-ALT-DESC;FMTTYPE=text/html:<a href='/agenda/2026/5/30/bernd-speelt-freddie-mercury-334913'>/agenda/2026/5/30/bernd-speelt-freddie-mercury-334913</a> || <p>Een ode van pianist Bernd van den Bos aan één van ‘s werelds grootste en meest veelzijdige popiconen ooit, Freddie Mercury.</p><p>Bernd, bekend als pianist &amp; bandleider van talloze artiesten zoals Brigitte Kaandorp, Simone Kleinsma en André van Duin, laat de magische hits van Queen en Freddie opnieuw tot leven komen tijdens dit theaterconcert.</p><p>‘Love Of My Life’, ‘We Are The Champions’, ‘Somebody To Love’, ‘Bohemian Rhapsody’, allemaal komen ze voorbij op de piano!</p><p>Vaak zoals je ze kent en soms in een verrassend klassiek jasje vanwege de gezamenlijke liefde van zowel Freddie als Bernd voor klassieke muziek.</p><p>Ook neemt Bernd je aan de hand van Freddie Mercury mee in zijn eigen muzikale en persoonlijke ontwikkeling, én kom je dingen te weten over Freddie Mercury die je nooit eerder gehoord hebt.</p><p>Kortom, een unieke muzikale beleving vol verrassingen die elke muziek- en Queen liefhebber niet mag missen!&nbsp;</p><p>Recensies Bernd speelt Freddie Mercury 🖋</p><p>‘Een virtuoze samensmelting‘⭐⭐⭐⭐⭐</p><p>‘Bernd laat iconen samensmelten‘⭐⭐⭐⭐⭐‘</p><p>Een voorstelling die je niet alleen hoort, maar écht meemaakt‘</p><p>🎫 Tickets via:</p><p>https://www.detoegift.com/shows/bernd-van-den-bos</p><p>Dit evenement is rolstoelvriendelijk.</p><p>Dit evenement is niet huisdiervriendelijk.</p>
DESCRIPTION:<a href='/agenda/2026/5/30/bernd-speelt-freddie-mercury-334913'>/agenda/2026/5/30/bernd-speelt-freddie-mercury-334913</a> || <p>Een ode van pianist Bernd van den Bos aan één van ‘s werelds grootste en meest veelzijdige popiconen ooit, Freddie Mercury.</p><p>Bernd, bekend als pianist &amp; bandleider van talloze artiesten zoals Brigitte Kaandorp, Simone Kleinsma en André van Duin, laat de magische hits van Queen en Freddie opnieuw tot leven komen tijdens dit theaterconcert.</p><p>‘Love Of My Life’, ‘We Are The Champions’, ‘Somebody To Love’, ‘Bohemian Rhapsody’, allemaal komen ze voorbij op de piano!</p><p>Vaak zoals je ze kent en soms in een verrassend klassiek jasje vanwege de gezamenlijke liefde van zowel Freddie als Bernd voor klassieke muziek.</p><p>Ook neemt Bernd je aan de hand van Freddie Mercury mee in zijn eigen muzikale en persoonlijke ontwikkeling, én kom je dingen te weten over Freddie Mercury die je nooit eerder gehoord hebt.</p><p>Kortom, een unieke muzikale beleving vol verrassingen die elke muziek- en Queen liefhebber niet mag missen!&nbsp;</p><p>Recensies Bernd speelt Freddie Mercury 🖋</p><p>‘Een virtuoze samensmelting‘⭐⭐⭐⭐⭐</p><p>‘Bernd laat iconen samensmelten‘⭐⭐⭐⭐⭐‘</p><p>Een voorstelling die je niet alleen hoort, maar écht meemaakt‘</p><p>🎫 Tickets via:</p><p>https://www.detoegift.com/shows/bernd-van-den-bos</p><p>Dit evenement is rolstoelvriendelijk.</p><p>Dit evenement is niet huisdiervriendelijk.</p>
LAST-MODIFIED:20260423T112656Z
LOCATION: Theater & Restaurant De Toegift @Klif 12 | Klif 12 Den Hoorn
SEQUENCE:0
STATUS:CONFIRMED
SUMMARY:Bernd speelt Freddie Mercury
TRANSP:OPAQUE
END:VEVENT
END:VCALENDAR
