BEGIN:VCALENDAR
PRODID:-//PUBBLE//agenda//NL
VERSION:2.0
METHOD:PUBLISH
BEGIN:VEVENT
DTSTART:20260424T173000Z
DTEND:20260424T193000Z
DTSTAMP:20260422T002716Z
UID:174f270d-ff6d-4365-9079-09769bc4dfaa
CREATED:20260422T002716Z
NAME:Texels Fanfare Festival texelagenda.nl
X-WR-CALNAME:Texels Fanfare Festival
X-ALT-DESC;FMTTYPE=text/html:<a href='/agenda/2026/4/24/texels-fanfare-festival-334938'>/agenda/2026/4/24/texels-fanfare-festival-334938</a> || <p>Zin in een avond vol herkenning, traditie en Texelse klanken? Op vrijdag 24 april 2026 keert het Texels Fanfare Festival terug in Evenementenhal Texel. Na veertien jaar brengt dit geliefde evenement opnieuw de muziekverenigingen van het eiland samen op één podium. Laat u verrassen door een afwisselend programma vol fanfareklassiekers en bekende melodieën, uitgevoerd door muzikanten van eigen bodem. </p><p>Dit evenement is rolstoelvriendelijk.</p><p>Dit evenement is niet huisdiervriendelijk.</p>
DESCRIPTION:<a href='/agenda/2026/4/24/texels-fanfare-festival-334938'>/agenda/2026/4/24/texels-fanfare-festival-334938</a> || <p>Zin in een avond vol herkenning, traditie en Texelse klanken? Op vrijdag 24 april 2026 keert het Texels Fanfare Festival terug in Evenementenhal Texel. Na veertien jaar brengt dit geliefde evenement opnieuw de muziekverenigingen van het eiland samen op één podium. Laat u verrassen door een afwisselend programma vol fanfareklassiekers en bekende melodieën, uitgevoerd door muzikanten van eigen bodem. </p><p>Dit evenement is rolstoelvriendelijk.</p><p>Dit evenement is niet huisdiervriendelijk.</p>
LAST-MODIFIED:20260422T002716Z
LOCATION: Vakantiepark De Krim - Evenementehal | Roggeslootweg 6 De Cocksdorp
SEQUENCE:0
STATUS:CONFIRMED
SUMMARY:Texels Fanfare Festival
TRANSP:OPAQUE
END:VEVENT
END:VCALENDAR
