BEGIN:VCALENDAR
PRODID:-//PUBBLE//agenda//NL
VERSION:2.0
METHOD:PUBLISH
BEGIN:VEVENT
DTSTART:20260406T090000Z
DTEND:20250406T130000Z
DTSTAMP:20260423T213342Z
UID:9036f4eb-6b91-4242-a95a-6ccafd0ff244
CREATED:20260423T213342Z
NAME:Roparun Vis- en Patatloop 2026 texelagenda.nl
X-WR-CALNAME:Roparun Vis- en Patatloop 2026
X-ALT-DESC;FMTTYPE=text/html:<a href='/agenda/2026/4/6/roparun-vis-en-patatloop-2026-334957'>/agenda/2026/4/6/roparun-vis-en-patatloop-2026-334957</a> || <p>Bij het Cafeetje start de Roparun Vis en Patatloop van 7 of 12 km, voor zowel hardlopers als wandelaars (alleen 7 km). Inschr. va 14 uur/ €12. p.p. Na afloop vis en patat voor alle deelnemers.</p>
DESCRIPTION:<a href='/agenda/2026/4/6/roparun-vis-en-patatloop-2026-334957'>/agenda/2026/4/6/roparun-vis-en-patatloop-2026-334957</a> || <p>Bij het Cafeetje start de Roparun Vis en Patatloop van 7 of 12 km, voor zowel hardlopers als wandelaars (alleen 7 km). Inschr. va 14 uur/ €12. p.p. Na afloop vis en patat voor alle deelnemers.</p>
LAST-MODIFIED:20260423T213342Z
LOCATION: 't Cafeetje | Kerkstraat 7 Oosterend
SEQUENCE:0
STATUS:CONFIRMED
SUMMARY:Roparun Vis- en Patatloop 2026
TRANSP:OPAQUE
END:VEVENT
END:VCALENDAR
