BEGIN:VCALENDAR
PRODID:-//PUBBLE//agenda//NL
VERSION:2.0
METHOD:PUBLISH
BEGIN:VEVENT
DTSTART:20260704T080000Z
DTEND:20260704T150000Z
DTSTAMP:20260422T132949Z
UID:c7f4f221-cf8f-4a31-9652-6883c131c704
CREATED:20260422T132949Z
NAME:Open tuinendag Oosterend texelagenda.nl
X-WR-CALNAME:Open tuinendag Oosterend
X-ALT-DESC;FMTTYPE=text/html:<a href='/agenda/2026/7/4/open-tuinendag-oosterend-334981'>/agenda/2026/7/4/open-tuinendag-oosterend-334981</a> || <p>Het is weer zo’n jaar. In Oosterend stellen verschillende eigenaren hun tuinen open voor een bezoek. Het thema is dit jaar naast het kijken naar tuinen ook het voelen, ruiken en proeven. Kom op bezoek en laat je zintuigen prikkelen. In enkele van de tuinen is daarom ook iets te eten, drinken of muziek.&nbsp;</p><p>De tuinenroute is gratis op 4 juli van 10 tot 17 uur.&nbsp;</p><p>Op een later tijdstip vermelden in deze agenda alle opengestelde tuinen. </p><p>Dit evenement is rolstoelvriendelijk.</p><p>Dit evenement is niet huisdiervriendelijk.</p>
DESCRIPTION:<a href='/agenda/2026/7/4/open-tuinendag-oosterend-334981'>/agenda/2026/7/4/open-tuinendag-oosterend-334981</a> || <p>Het is weer zo’n jaar. In Oosterend stellen verschillende eigenaren hun tuinen open voor een bezoek. Het thema is dit jaar naast het kijken naar tuinen ook het voelen, ruiken en proeven. Kom op bezoek en laat je zintuigen prikkelen. In enkele van de tuinen is daarom ook iets te eten, drinken of muziek.&nbsp;</p><p>De tuinenroute is gratis op 4 juli van 10 tot 17 uur.&nbsp;</p><p>Op een later tijdstip vermelden in deze agenda alle opengestelde tuinen. </p><p>Dit evenement is rolstoelvriendelijk.</p><p>Dit evenement is niet huisdiervriendelijk.</p>
LAST-MODIFIED:20260422T132949Z
LOCATION: Natuur Goed Texel Oosterend | Koningsweg 4 Oosterend
SEQUENCE:0
STATUS:CONFIRMED
SUMMARY:Open tuinendag Oosterend
TRANSP:OPAQUE
END:VEVENT
END:VCALENDAR
