BEGIN:VCALENDAR
PRODID:-//PUBBLE//agenda//NL
VERSION:2.0
METHOD:PUBLISH
BEGIN:VEVENT
DTSTART:20260506T103000Z
DTEND:20250506T123000Z
DTSTAMP:20260422T141432Z
UID:16b0c0a9-13fe-4fa8-b21c-0ba0d143705b
CREATED:20260422T141432Z
NAME:Workshop Keramiek texelagenda.nl
X-WR-CALNAME:Workshop Keramiek
X-ALT-DESC;FMTTYPE=text/html:<a href='/agenda/2026/5/6/workshop-keramiek-335002'>/agenda/2026/5/6/workshop-keramiek-335002</a> || <p>Workshop Keramiek, Met je handen in de klei!
Tijdens deze workshop gaan we een eenvoudige handvorm maken met behulp van een gipsmal.
De ronde kom die hierdoor ontstaat is de basis om verder te gaan. Je kan er een kom van maken, maar je kan ook je fantasie laten gaan. Na het vormen gaan we deze decoreren met engobe, kleiverf. De kom moet droegen en daarna 2 keer gebankken worden en wordt verstuurd als deze klaar is.
Rolstoelvriendelijk: jaHuisdiervriendelijk: ja</p><p>Dit evenement is rolstoelvriendelijk.</p><p>Dit evenement is huisdiervriendelijk.</p>
DESCRIPTION:<a href='/agenda/2026/5/6/workshop-keramiek-335002'>/agenda/2026/5/6/workshop-keramiek-335002</a> || <p>Workshop Keramiek, Met je handen in de klei!
Tijdens deze workshop gaan we een eenvoudige handvorm maken met behulp van een gipsmal.
De ronde kom die hierdoor ontstaat is de basis om verder te gaan. Je kan er een kom van maken, maar je kan ook je fantasie laten gaan. Na het vormen gaan we deze decoreren met engobe, kleiverf. De kom moet droegen en daarna 2 keer gebankken worden en wordt verstuurd als deze klaar is.
Rolstoelvriendelijk: jaHuisdiervriendelijk: ja</p><p>Dit evenement is rolstoelvriendelijk.</p><p>Dit evenement is huisdiervriendelijk.</p>
LAST-MODIFIED:20260422T141432Z
LOCATION: Atelier Pontweg 19 | Pontweg 19 Den Hoorn
SEQUENCE:0
STATUS:CONFIRMED
SUMMARY:Workshop Keramiek
TRANSP:OPAQUE
END:VEVENT
END:VCALENDAR
