BEGIN:VCALENDAR
PRODID:-//PUBBLE//agenda//NL
VERSION:2.0
METHOD:PUBLISH
BEGIN:VEVENT
DTSTART:20260728T103000Z
DTEND:20260728T123000Z
DTSTAMP:20260422T141727Z
UID:274e533a-9c3e-4f59-bd44-29943afe37a4
CREATED:20260422T141727Z
NAME:Workshop Keramiek texelagenda.nl
X-WR-CALNAME:Workshop Keramiek
X-ALT-DESC;FMTTYPE=text/html:<a href='/agenda/2026/7/28/workshop-keramiek-335003'>/agenda/2026/7/28/workshop-keramiek-335003</a> || <p>Workshop Keramiek, Met je handen in de klei! Tijdens deze workshop gaan we een eenvoudige handvorm maken met behulp van een gipsmal. De ronde kom die hierdoor ontstaat is de basis om verder te gaan. Je kan er een kom van maken, maar je kan ook je fantasie laten gaan. Na het vormen gaan we deze decoreren met engobe, kleiverf. De kom moet droegen en daarna 2 keer gebakken worden en wordt verstuurd als deze klaar is. Rolstoelvriendelijk: jaHuisdiervriendelijk: ja</p>
DESCRIPTION:<a href='/agenda/2026/7/28/workshop-keramiek-335003'>/agenda/2026/7/28/workshop-keramiek-335003</a> || <p>Workshop Keramiek, Met je handen in de klei! Tijdens deze workshop gaan we een eenvoudige handvorm maken met behulp van een gipsmal. De ronde kom die hierdoor ontstaat is de basis om verder te gaan. Je kan er een kom van maken, maar je kan ook je fantasie laten gaan. Na het vormen gaan we deze decoreren met engobe, kleiverf. De kom moet droegen en daarna 2 keer gebakken worden en wordt verstuurd als deze klaar is. Rolstoelvriendelijk: jaHuisdiervriendelijk: ja</p>
LAST-MODIFIED:20260422T141727Z
LOCATION: Atelier Pontweg 19 | Pontweg 19 Den Hoorn
SEQUENCE:0
STATUS:CONFIRMED
SUMMARY:Workshop Keramiek
TRANSP:OPAQUE
END:VEVENT
END:VCALENDAR
