BEGIN:VCALENDAR
PRODID:-//PUBBLE//agenda//NL
VERSION:2.0
METHOD:PUBLISH
BEGIN:VEVENT
DTSTART:20260804T103000Z
DTEND:20260804T123000Z
DTSTAMP:20260422T143038Z
UID:fb22cf15-4e51-4db7-a722-0508d9de704d
CREATED:20260422T143038Z
NAME:Workshop Keramiek texelagenda.nl
X-WR-CALNAME:Workshop Keramiek
X-ALT-DESC;FMTTYPE=text/html:<a href='/agenda/2026/8/4/workshop-keramiek-335004'>/agenda/2026/8/4/workshop-keramiek-335004</a> || <p>Workshop Keramiek, Met je handen in de klei! Tijdens deze workshop gaan we een eenvoudige handvorm maken met behulp van een gipsmal. De ronde kom die hierdoor ontstaat is de basis om verder te gaan. Je kan er een kom van maken, maar je kan ook je fantasie laten gaan. Na het vormen gaan we deze decoreren met engobe, kleiverf. De kom moet droegen en daarna 2 keer gebakken worden en wordt verstuurd als deze klaar is. Rolstoelvriendelijk: jaHuisdiervriendelijk: ja</p>
DESCRIPTION:<a href='/agenda/2026/8/4/workshop-keramiek-335004'>/agenda/2026/8/4/workshop-keramiek-335004</a> || <p>Workshop Keramiek, Met je handen in de klei! Tijdens deze workshop gaan we een eenvoudige handvorm maken met behulp van een gipsmal. De ronde kom die hierdoor ontstaat is de basis om verder te gaan. Je kan er een kom van maken, maar je kan ook je fantasie laten gaan. Na het vormen gaan we deze decoreren met engobe, kleiverf. De kom moet droegen en daarna 2 keer gebakken worden en wordt verstuurd als deze klaar is. Rolstoelvriendelijk: jaHuisdiervriendelijk: ja</p>
LAST-MODIFIED:20260422T143038Z
LOCATION: Atelier Pontweg 19 | Pontweg 19 Den Hoorn
SEQUENCE:0
STATUS:CONFIRMED
SUMMARY:Workshop Keramiek
TRANSP:OPAQUE
END:VEVENT
END:VCALENDAR
