BEGIN:VCALENDAR
PRODID:-//PUBBLE//agenda//NL
VERSION:2.0
METHOD:PUBLISH
BEGIN:VEVENT
DTSTART:20260811T103000Z
DTEND:20250811T123000Z
DTSTAMP:20260422T140105Z
UID:e4deaa3d-0a3a-4b11-8db4-228b364a875a
CREATED:20260422T140105Z
NAME:Workshop Keramiek texelagenda.nl
X-WR-CALNAME:Workshop Keramiek
X-ALT-DESC;FMTTYPE=text/html:<a href='/agenda/2026/8/11/workshop-keramiek-335005'>/agenda/2026/8/11/workshop-keramiek-335005</a> || <p>Workshop Keramiek, Met je handen in de klei!
Tijdens deze workshop gaan we een eenvoudige handvorm maken met behulp van een gipsmal.
De ronde kom die hierdoor ontstaat is de basis om verder te gaan. Je kan er een kom van maken, maar je kan ook je fantasie laten gaan. Na het vormen gaan we deze decoreren met engobe, kleiverf. De kom moet droegen en daarna 2 keer gebankken worden en wordt verstuurd als deze klaar is.
Rolstoelvriendelijk: jaHuisdiervriendelijk: ja</p><p>Dit evenement is rolstoelvriendelijk.</p><p>Dit evenement is huisdiervriendelijk.</p>
DESCRIPTION:<a href='/agenda/2026/8/11/workshop-keramiek-335005'>/agenda/2026/8/11/workshop-keramiek-335005</a> || <p>Workshop Keramiek, Met je handen in de klei!
Tijdens deze workshop gaan we een eenvoudige handvorm maken met behulp van een gipsmal.
De ronde kom die hierdoor ontstaat is de basis om verder te gaan. Je kan er een kom van maken, maar je kan ook je fantasie laten gaan. Na het vormen gaan we deze decoreren met engobe, kleiverf. De kom moet droegen en daarna 2 keer gebankken worden en wordt verstuurd als deze klaar is.
Rolstoelvriendelijk: jaHuisdiervriendelijk: ja</p><p>Dit evenement is rolstoelvriendelijk.</p><p>Dit evenement is huisdiervriendelijk.</p>
LAST-MODIFIED:20260422T140105Z
LOCATION: Atelier Pontweg 19 | Pontweg 19 Den Hoorn
SEQUENCE:0
STATUS:CONFIRMED
SUMMARY:Workshop Keramiek
TRANSP:OPAQUE
END:VEVENT
END:VCALENDAR
