BEGIN:VCALENDAR
PRODID:-//PUBBLE//agenda//NL
VERSION:2.0
METHOD:PUBLISH
BEGIN:VEVENT
DTSTART:20260811T063000Z
DTEND:20260811T083000Z
DTSTAMP:20260422T141432Z
UID:16613129-f1ae-47d5-8bc3-2aa3f990a948
CREATED:20260422T141432Z
NAME:Workshop Schilderen texelagenda.nl
X-WR-CALNAME:Workshop Schilderen
X-ALT-DESC;FMTTYPE=text/html:<a href='/agenda/2026/8/11/workshop-schilderen-335010'>/agenda/2026/8/11/workshop-schilderen-335010</a> || <p>Workshop schilderen met acrylverf. Ontdek je eigen stijl! We starten met een eenvoudige, maar belangrijke oefening: Het mengen van kleuren. Dan gaan we een achtergrond schilderen, een basis met zelf gekozen kleuren, gewoon lekker doen! Dan volgt er een tekenopdracht waarin je een onderwerp gaat bepalen. Hierna ga je de tekening overzetten op de achtergrond . En kan je het schilderij afmaken op eigen niveau. Het schilderij ontstaat en dat levert vaak een verrassend resultaat, deze worden besproken. Goede reden om thuis ook weer de kwast op te pakken! Rolstoelvriendelijk: jaHuisdiervriendelijk: ja</p>
DESCRIPTION:<a href='/agenda/2026/8/11/workshop-schilderen-335010'>/agenda/2026/8/11/workshop-schilderen-335010</a> || <p>Workshop schilderen met acrylverf. Ontdek je eigen stijl! We starten met een eenvoudige, maar belangrijke oefening: Het mengen van kleuren. Dan gaan we een achtergrond schilderen, een basis met zelf gekozen kleuren, gewoon lekker doen! Dan volgt er een tekenopdracht waarin je een onderwerp gaat bepalen. Hierna ga je de tekening overzetten op de achtergrond . En kan je het schilderij afmaken op eigen niveau. Het schilderij ontstaat en dat levert vaak een verrassend resultaat, deze worden besproken. Goede reden om thuis ook weer de kwast op te pakken! Rolstoelvriendelijk: jaHuisdiervriendelijk: ja</p>
LAST-MODIFIED:20260422T141432Z
LOCATION: Atelier Pontweg 19 | Pontweg 19 Den Hoorn
SEQUENCE:0
STATUS:CONFIRMED
SUMMARY:Workshop Schilderen
TRANSP:OPAQUE
END:VEVENT
END:VCALENDAR
