BEGIN:VCALENDAR
PRODID:-//PUBBLE//agenda//NL
VERSION:2.0
METHOD:PUBLISH
BEGIN:VEVENT
DTSTART:20260309T073000Z
DTEND:20260601T120000Z
DTSTAMP:20260425T035124Z
UID:2c6b0951-5e97-4781-95a2-0307c026fc18
CREATED:20260425T035124Z
NAME:Geniet van de zeehonden bij Ecomare texelagenda.nl
X-WR-CALNAME:Geniet van de zeehonden bij Ecomare
X-ALT-DESC;FMTTYPE=text/html:<a href='/agenda/2026/3/9/geniet-van-de-zeehonden-bij-ecomare-335052'>/agenda/2026/3/9/geniet-van-de-zeehonden-bij-ecomare-335052</a> || <p>Wil je zeehonden van dichtbij bewonderen en meer leren over dit grote roofdier? Dan ben je bij Ecomare aan het juiste adres. Maar ook voor de zeeaquaria, de vogelopvang en het natuurmuseum ga je naar Ecomare. Verbaas je over de gigantische skeletten van walvissen, ontdek alles over Werelderfgoed Waddenzee en beleef een paar boeiende uren in dit natuurcentrum bij De Koog. Tickets met 1 Euro korting koop je online via de ticket-knop op ecomare.nl.</p><p>Dit evenement is rolstoelvriendelijk.</p><p>Dit evenement is niet huisdiervriendelijk.</p>
DESCRIPTION:<a href='/agenda/2026/3/9/geniet-van-de-zeehonden-bij-ecomare-335052'>/agenda/2026/3/9/geniet-van-de-zeehonden-bij-ecomare-335052</a> || <p>Wil je zeehonden van dichtbij bewonderen en meer leren over dit grote roofdier? Dan ben je bij Ecomare aan het juiste adres. Maar ook voor de zeeaquaria, de vogelopvang en het natuurmuseum ga je naar Ecomare. Verbaas je over de gigantische skeletten van walvissen, ontdek alles over Werelderfgoed Waddenzee en beleef een paar boeiende uren in dit natuurcentrum bij De Koog. Tickets met 1 Euro korting koop je online via de ticket-knop op ecomare.nl.</p><p>Dit evenement is rolstoelvriendelijk.</p><p>Dit evenement is niet huisdiervriendelijk.</p>
LAST-MODIFIED:20260425T035124Z
LOCATION: Ecomare | Ruijslaan 92 De Koog
SEQUENCE:0
STATUS:CONFIRMED
SUMMARY:Geniet van de zeehonden bij Ecomare
TRANSP:OPAQUE
END:VEVENT
END:VCALENDAR
