BEGIN:VCALENDAR
PRODID:-//PUBBLE//agenda//NL
VERSION:2.0
METHOD:PUBLISH
BEGIN:VEVENT
DTSTART:20260503T080000Z
DTEND:20270103T180300Z
DTSTAMP:20260424T044034Z
UID:a5a1aff1-1f87-4b0c-b289-fc0fc9f03ae2
CREATED:20260424T044034Z
NAME:Ontdek de schatten van De Slufter texelagenda.nl
X-WR-CALNAME:Ontdek de schatten van De Slufter
X-ALT-DESC;FMTTYPE=text/html:<a href='/agenda/2026/5/3/ontdek-de-schatten-van-de-slufter-335053'>/agenda/2026/5/3/ontdek-de-schatten-van-de-slufter-335053</a> || <p>Samen met de gids van Staatsbosbeheer ontdek je het prachtige kweldergebied De Slufter. Geregeld overstroomt het hele gebied met zeewater; dat vereist bijzondere aanpassingen voor de planten die er groeien. Deelname vanaf 7 jaar, t/m 12 jr € 12, volw € 18,-. Meer informatie en boeken op ecomare.nl/excursies.&nbsp;</p>
DESCRIPTION:<a href='/agenda/2026/5/3/ontdek-de-schatten-van-de-slufter-335053'>/agenda/2026/5/3/ontdek-de-schatten-van-de-slufter-335053</a> || <p>Samen met de gids van Staatsbosbeheer ontdek je het prachtige kweldergebied De Slufter. Geregeld overstroomt het hele gebied met zeewater; dat vereist bijzondere aanpassingen voor de planten die er groeien. Deelname vanaf 7 jaar, t/m 12 jr € 12, volw € 18,-. Meer informatie en boeken op ecomare.nl/excursies.&nbsp;</p>
LAST-MODIFIED:20260424T044034Z
LOCATION: Ecomare | Ruijslaan 92 De Koog
SEQUENCE:0
STATUS:CONFIRMED
SUMMARY:Ontdek de schatten van De Slufter
TRANSP:OPAQUE
END:VEVENT
END:VCALENDAR
