BEGIN:VCALENDAR
PRODID:-//PUBBLE//agenda//NL
VERSION:2.0
METHOD:PUBLISH
BEGIN:VEVENT
DTSTART:20260811T170000Z
DTEND:20260818T190000Z
DTSTAMP:20260424T113535Z
UID:fcc813fc-66eb-4e3d-b5d8-8759fb8848a9
CREATED:20260424T113535Z
NAME:Schemeren in De Slufter texelagenda.nl
X-WR-CALNAME:Schemeren in De Slufter
X-ALT-DESC;FMTTYPE=text/html:<a href='/agenda/2026/8/11/schemeren-in-de-slufter-335059'>/agenda/2026/8/11/schemeren-in-de-slufter-335059</a> || <p>Ontdek het bijzondere kweldergebied in de schemering! Terwijl de avond valt over het natuurgebied, daalt er een grote rust neer. Je ervaart het al wandelend over de kwelder en wadend door de kreken. Onderweg zie je wad- en watervogels zich tegoed doen aan wat er leeft in het gebied. De gids vertelt ook over de kwelderplanten met de unieke eigenschap dat ze tegen zout kunnen. Vanaf 7 jr. Info bij Ecomare, 0222-317741, boeken via www.ecomare.nl. Volw €18, kind t/m 12 €12.</p>
DESCRIPTION:<a href='/agenda/2026/8/11/schemeren-in-de-slufter-335059'>/agenda/2026/8/11/schemeren-in-de-slufter-335059</a> || <p>Ontdek het bijzondere kweldergebied in de schemering! Terwijl de avond valt over het natuurgebied, daalt er een grote rust neer. Je ervaart het al wandelend over de kwelder en wadend door de kreken. Onderweg zie je wad- en watervogels zich tegoed doen aan wat er leeft in het gebied. De gids vertelt ook over de kwelderplanten met de unieke eigenschap dat ze tegen zout kunnen. Vanaf 7 jr. Info bij Ecomare, 0222-317741, boeken via www.ecomare.nl. Volw €18, kind t/m 12 €12.</p>
LAST-MODIFIED:20260424T113535Z
LOCATION: Ecomare | Ruijslaan 92 De Koog
SEQUENCE:0
STATUS:CONFIRMED
SUMMARY:Schemeren in De Slufter
TRANSP:OPAQUE
END:VEVENT
END:VCALENDAR
