BEGIN:VCALENDAR
PRODID:-//PUBBLE//agenda//NL
VERSION:2.0
METHOD:PUBLISH
BEGIN:VEVENT
DTSTART:20260722T193000Z
DTEND:20260805T213000Z
DTSTAMP:20260424T210831Z
UID:8a06f0c6-ef42-4d87-bf44-6b4a7a153502
CREATED:20260424T210831Z
NAME:Geheimen van de nacht texelagenda.nl
X-WR-CALNAME:Geheimen van de nacht
X-ALT-DESC;FMTTYPE=text/html:<a href='/agenda/2026/7/22/geheimen-van-de-nacht-335063'>/agenda/2026/7/22/geheimen-van-de-nacht-335063</a> || <p>Wat gebeurt er ‘s nachts allemaal in de natuur? Sommige dieren worden dan juist actief! Tijdens deze excursie beleef je de avondschemering en maak je kennis met het nachtleven in de Texelse natuur. Zet je zintuigen op scherp en geniet van de stilte. Hoewel... is het eigenlijk wel stil? Info en boeken bij Ecomare. Volw € 21,50, &nbsp;t/m 12 jaar € 16,50.</p>
DESCRIPTION:<a href='/agenda/2026/7/22/geheimen-van-de-nacht-335063'>/agenda/2026/7/22/geheimen-van-de-nacht-335063</a> || <p>Wat gebeurt er ‘s nachts allemaal in de natuur? Sommige dieren worden dan juist actief! Tijdens deze excursie beleef je de avondschemering en maak je kennis met het nachtleven in de Texelse natuur. Zet je zintuigen op scherp en geniet van de stilte. Hoewel... is het eigenlijk wel stil? Info en boeken bij Ecomare. Volw € 21,50, &nbsp;t/m 12 jaar € 16,50.</p>
LAST-MODIFIED:20260424T210831Z
LOCATION: Ecomare | Ruijslaan 92 De Koog
SEQUENCE:0
STATUS:CONFIRMED
SUMMARY:Geheimen van de nacht
TRANSP:OPAQUE
END:VEVENT
END:VCALENDAR
