BEGIN:VCALENDAR
PRODID:-//PUBBLE//agenda//NL
VERSION:2.0
METHOD:PUBLISH
BEGIN:VEVENT
DTSTART:20260826T183000Z
DTEND:20260826T203000Z
DTSTAMP:20260424T201154Z
UID:95c34e58-a053-446c-ace0-b17976f4fe08
CREATED:20260424T201154Z
NAME:Geheimen van de nacht texelagenda.nl
X-WR-CALNAME:Geheimen van de nacht
X-ALT-DESC;FMTTYPE=text/html:<a href='/agenda/2026/8/26/geheimen-van-de-nacht-335066'>/agenda/2026/8/26/geheimen-van-de-nacht-335066</a> || <p>Wat gebeurt er ‘s nachts allemaal in de natuur? Sommige dieren worden dan juist actief! Tijdens deze excursie beleef je de avondschemering en maak je kennis met het nachtleven in de Texelse natuur. Zet je zintuigen op scherp en geniet van de stilte. Hoewel... is het eigenlijk wel stil? Info en boeken bij Ecomare. Volw € 21,50, &nbsp;t/m 12 jaar € 16,50.</p>
DESCRIPTION:<a href='/agenda/2026/8/26/geheimen-van-de-nacht-335066'>/agenda/2026/8/26/geheimen-van-de-nacht-335066</a> || <p>Wat gebeurt er ‘s nachts allemaal in de natuur? Sommige dieren worden dan juist actief! Tijdens deze excursie beleef je de avondschemering en maak je kennis met het nachtleven in de Texelse natuur. Zet je zintuigen op scherp en geniet van de stilte. Hoewel... is het eigenlijk wel stil? Info en boeken bij Ecomare. Volw € 21,50, &nbsp;t/m 12 jaar € 16,50.</p>
LAST-MODIFIED:20260424T201154Z
LOCATION: Ecomare | Ruijslaan 92 De Koog
SEQUENCE:0
STATUS:CONFIRMED
SUMMARY:Geheimen van de nacht
TRANSP:OPAQUE
END:VEVENT
END:VCALENDAR
