BEGIN:VCALENDAR
PRODID:-//PUBBLE//agenda//NL
VERSION:2.0
METHOD:PUBLISH
BEGIN:VEVENT
DTSTART:20260516T100000Z
DTEND:20260517T140000Z
DTSTAMP:20260423T122423Z
UID:2e43f996-e2d8-4f98-946f-2baa8aef5b81
CREATED:20260423T122423Z
NAME:tentoonstelling leerlingen UDJAT texelagenda.nl
X-WR-CALNAME:tentoonstelling leerlingen UDJAT
X-ALT-DESC;FMTTYPE=text/html:<a href='/agenda/2026/5/16/tentoonstelling-leerlingen-udjat-335560'>/agenda/2026/5/16/tentoonstelling-leerlingen-udjat-335560</a> || <p>B<strong>ij Kunstschuur Udjat in Oosterend is een tentoonstelling van leerlingen van Klarina&nbsp;</strong></p><p><strong>Combe&nbsp;</strong></p><p><strong>&nbsp;een kleine selectie wat er in de loop van het jaar gemaakt is komt hier aan bod</strong></p><p><strong>Tevens is er werk van Arjan Trap en Klarin</strong>a Combe te zien</p><p>16 en 17 mei van 12.00 tot 16.00 uur Achtertune 18B</p><p>Dit evenement is rolstoelvriendelijk.</p><p>Dit evenement is niet huisdiervriendelijk.</p>
DESCRIPTION:<a href='/agenda/2026/5/16/tentoonstelling-leerlingen-udjat-335560'>/agenda/2026/5/16/tentoonstelling-leerlingen-udjat-335560</a> || <p>B<strong>ij Kunstschuur Udjat in Oosterend is een tentoonstelling van leerlingen van Klarina&nbsp;</strong></p><p><strong>Combe&nbsp;</strong></p><p><strong>&nbsp;een kleine selectie wat er in de loop van het jaar gemaakt is komt hier aan bod</strong></p><p><strong>Tevens is er werk van Arjan Trap en Klarin</strong>a Combe te zien</p><p>16 en 17 mei van 12.00 tot 16.00 uur Achtertune 18B</p><p>Dit evenement is rolstoelvriendelijk.</p><p>Dit evenement is niet huisdiervriendelijk.</p>
LAST-MODIFIED:20260423T122423Z
LOCATION: Udjat Kunstschuur | achtertune 18b Oosterend
SEQUENCE:0
STATUS:CONFIRMED
SUMMARY:tentoonstelling leerlingen UDJAT
TRANSP:OPAQUE
END:VEVENT
END:VCALENDAR
