BEGIN:VCALENDAR
PRODID:-//PUBBLE//agenda//NL
VERSION:2.0
METHOD:PUBLISH
BEGIN:VEVENT
DTSTART:20260429T100000Z
DTEND:20260506T140000Z
DTSTAMP:20260422T091734Z
UID:994fa22e-a1f2-4231-b8fb-3bcc24f29f79
CREATED:20260422T091734Z
NAME:Knutselen bij Museum Kaap Skil texelagenda.nl
X-WR-CALNAME:Knutselen bij Museum Kaap Skil
X-ALT-DESC;FMTTYPE=text/html:<a href='/agenda/2026/4/29/knutselen-bij-museum-kaap-skil-335577'>/agenda/2026/4/29/knutselen-bij-museum-kaap-skil-335577</a> || <p>Al dat moois in het museum inspireert tot creativiteit! Maak een bootje of kleur en knutsel een aankleedpop. Het mag ook allebei. Schuif gezellig aan tussen 2 en 4 aan de grote tafel in de entreehal. Kijk voor alle activiteiten in de agenda op de website.</p>
DESCRIPTION:<a href='/agenda/2026/4/29/knutselen-bij-museum-kaap-skil-335577'>/agenda/2026/4/29/knutselen-bij-museum-kaap-skil-335577</a> || <p>Al dat moois in het museum inspireert tot creativiteit! Maak een bootje of kleur en knutsel een aankleedpop. Het mag ook allebei. Schuif gezellig aan tussen 2 en 4 aan de grote tafel in de entreehal. Kijk voor alle activiteiten in de agenda op de website.</p>
LAST-MODIFIED:20260422T091734Z
LOCATION: Museum Kaap Skil | Heemskerckstraat 9 Oudeschild
SEQUENCE:0
STATUS:CONFIRMED
SUMMARY:Knutselen bij Museum Kaap Skil
TRANSP:OPAQUE
END:VEVENT
END:VCALENDAR
