BEGIN:VCALENDAR
PRODID:-//PUBBLE//agenda//NL
VERSION:2.0
METHOD:PUBLISH
BEGIN:VEVENT
DTSTART:20260429T083000Z
DTEND:20260429T090000Z
DTSTAMP:20260422T091452Z
UID:7da6bf37-4a2b-4b4b-bf68-4afe8fbc546a
CREATED:20260422T091452Z
NAME:Meeuwenonderzoeker vertelt bij Ecomare texelagenda.nl
X-WR-CALNAME:Meeuwenonderzoeker vertelt bij Ecomare
X-ALT-DESC;FMTTYPE=text/html:<a href='/agenda/2026/4/29/meeuwenonderzoeker-vertelt-bij-ecomare-335579'>/agenda/2026/4/29/meeuwenonderzoeker-vertelt-bij-ecomare-335579</a> || <p>Wat doet die man daar op de veerboot? Hij maakt foto’s van geringde meeuwen! ‘Die man’ is onderzoeker Mardik Leopold, die dagelijks heen en weer pendelt naar Den Helder. Door consequent ringnummers van de meeuwen rond de boot af te lezen, heeft hij verschillende ontdekkingen gedaan over de vogels. Hij vertelt hierover bij Ecomare, van 10.30-11 uur. Kom je luisteren? Gratis voor bezoekers.</p><p>Dit evenement is rolstoelvriendelijk.</p><p>Dit evenement is niet huisdiervriendelijk.</p>
DESCRIPTION:<a href='/agenda/2026/4/29/meeuwenonderzoeker-vertelt-bij-ecomare-335579'>/agenda/2026/4/29/meeuwenonderzoeker-vertelt-bij-ecomare-335579</a> || <p>Wat doet die man daar op de veerboot? Hij maakt foto’s van geringde meeuwen! ‘Die man’ is onderzoeker Mardik Leopold, die dagelijks heen en weer pendelt naar Den Helder. Door consequent ringnummers van de meeuwen rond de boot af te lezen, heeft hij verschillende ontdekkingen gedaan over de vogels. Hij vertelt hierover bij Ecomare, van 10.30-11 uur. Kom je luisteren? Gratis voor bezoekers.</p><p>Dit evenement is rolstoelvriendelijk.</p><p>Dit evenement is niet huisdiervriendelijk.</p>
LAST-MODIFIED:20260422T091452Z
LOCATION: Ecomare | Ruijslaan 92 De Koog
SEQUENCE:0
STATUS:CONFIRMED
SUMMARY:Meeuwenonderzoeker vertelt bij Ecomare
TRANSP:OPAQUE
END:VEVENT
END:VCALENDAR
