BEGIN:VCALENDAR
PRODID:-//PUBBLE//agenda//NL
VERSION:2.0
METHOD:PUBLISH
BEGIN:VEVENT
DTSTART:20260429T070000Z
DTEND:20260429T100000Z
DTSTAMP:20260422T091906Z
UID:1386648c-89e4-4549-8b22-3de9a4b69b93
CREATED:20260422T091906Z
NAME:Workshop Tekenen met Kaas en Koos texelagenda.nl
X-WR-CALNAME:Workshop Tekenen met Kaas en Koos
X-ALT-DESC;FMTTYPE=text/html:<a href='/agenda/2026/4/29/workshop-tekenen-met-kaas-en-koos-335581'>/agenda/2026/4/29/workshop-tekenen-met-kaas-en-koos-335581</a> || <p>Workshop tekenen met Brigida naar aanleiding van haar nieuwe prentenboek van Kaas &amp; Koos (bekend van Sesamstraat). Ze gaat met jou aan de slag om een wensvogel of droomdier te maken. Geschikt voor kinderen van 4 tot ongeveer 10 jaar. Locatie: Natuurcentrum De Marel, Nieuwlanderweg 38, De Waal. Aanmelden via www.natuurmonumenten.nl/agenda-texel</p><p>Dit evenement is rolstoelvriendelijk.</p><p>Dit evenement is niet huisdiervriendelijk.</p>
DESCRIPTION:<a href='/agenda/2026/4/29/workshop-tekenen-met-kaas-en-koos-335581'>/agenda/2026/4/29/workshop-tekenen-met-kaas-en-koos-335581</a> || <p>Workshop tekenen met Brigida naar aanleiding van haar nieuwe prentenboek van Kaas &amp; Koos (bekend van Sesamstraat). Ze gaat met jou aan de slag om een wensvogel of droomdier te maken. Geschikt voor kinderen van 4 tot ongeveer 10 jaar. Locatie: Natuurcentrum De Marel, Nieuwlanderweg 38, De Waal. Aanmelden via www.natuurmonumenten.nl/agenda-texel</p><p>Dit evenement is rolstoelvriendelijk.</p><p>Dit evenement is niet huisdiervriendelijk.</p>
LAST-MODIFIED:20260422T091906Z
LOCATION: Natuurcentrum De Marel | Nieuwlanderweg 38 De Waal
SEQUENCE:0
STATUS:CONFIRMED
SUMMARY:Workshop Tekenen met Kaas en Koos
TRANSP:OPAQUE
END:VEVENT
END:VCALENDAR
