BEGIN:VCALENDAR
PRODID:-//PUBBLE//agenda//NL
VERSION:2.0
METHOD:PUBLISH
BEGIN:VEVENT
DTSTART:20260430T120000Z
DTEND:20260430T130000Z
DTSTAMP:20260422T091906Z
UID:a81eeeef-7f38-4e50-b60c-8142d885b04c
CREATED:20260422T091906Z
NAME:Workshop Tekenen met Kaas en Koos texelagenda.nl
X-WR-CALNAME:Workshop Tekenen met Kaas en Koos
X-ALT-DESC;FMTTYPE=text/html:<a href='/agenda/2026/4/30/workshop-tekenen-met-kaas-en-koos-335584'>/agenda/2026/4/30/workshop-tekenen-met-kaas-en-koos-335584</a> || <p>Workshop tekenen met Brigida naar aanleiding van haar nieuwe prentenboek van Kaas &amp; Koos (bekend van Sesamstraat). Ze gaat met jou aan de slag om een wensvogel of droomdier te maken. Geschikt voor kinderen van 4 tot ongeveer 10 jaar. Locatie: Natuurcentrum De Marel, Nieuwlanderweg 38, De Waal. Aanmelden via www.natuurmonumenten.nl/agenda-texel</p>
DESCRIPTION:<a href='/agenda/2026/4/30/workshop-tekenen-met-kaas-en-koos-335584'>/agenda/2026/4/30/workshop-tekenen-met-kaas-en-koos-335584</a> || <p>Workshop tekenen met Brigida naar aanleiding van haar nieuwe prentenboek van Kaas &amp; Koos (bekend van Sesamstraat). Ze gaat met jou aan de slag om een wensvogel of droomdier te maken. Geschikt voor kinderen van 4 tot ongeveer 10 jaar. Locatie: Natuurcentrum De Marel, Nieuwlanderweg 38, De Waal. Aanmelden via www.natuurmonumenten.nl/agenda-texel</p>
LAST-MODIFIED:20260422T091906Z
LOCATION: Natuurcentrum De Marel | Nieuwlanderweg 38 De Waal
SEQUENCE:0
STATUS:CONFIRMED
SUMMARY:Workshop Tekenen met Kaas en Koos
TRANSP:OPAQUE
END:VEVENT
END:VCALENDAR
