BEGIN:VCALENDAR
PRODID:-//PUBBLE//agenda//NL
VERSION:2.0
METHOD:PUBLISH
BEGIN:VEVENT
DTSTART:20260425T090000Z
DTEND:20260425T130000Z
DTSTAMP:20260421T234454Z
UID:9238674b-2757-448c-ad71-c98e9c1ebec4
CREATED:20260421T234454Z
NAME:Roparun Schuurverkoop texelagenda.nl
X-WR-CALNAME:Roparun Schuurverkoop
X-ALT-DESC;FMTTYPE=text/html:<a href='/agenda/2026/4/25/roparun-schuurverkoop-335599'>/agenda/2026/4/25/roparun-schuurverkoop-335599</a> || <p>Op het erf van Rozendijk 30 is een schuurverkoop met huisraad, boeken, puzzels, meubels en nog veel meer van 11:00 tot 15:00 uur. De opbrengst is voor de Roparun.</p><p>Dit evenement is rolstoelvriendelijk.</p><p>Dit evenement is huisdiervriendelijk.</p>
DESCRIPTION:<a href='/agenda/2026/4/25/roparun-schuurverkoop-335599'>/agenda/2026/4/25/roparun-schuurverkoop-335599</a> || <p>Op het erf van Rozendijk 30 is een schuurverkoop met huisraad, boeken, puzzels, meubels en nog veel meer van 11:00 tot 15:00 uur. De opbrengst is voor de Roparun.</p><p>Dit evenement is rolstoelvriendelijk.</p><p>Dit evenement is huisdiervriendelijk.</p>
LAST-MODIFIED:20260421T234454Z
LOCATION: Roparun Schuurverkoop | Rozendijk 30 Den Burg
SEQUENCE:0
STATUS:CONFIRMED
SUMMARY:Roparun Schuurverkoop
TRANSP:OPAQUE
END:VEVENT
END:VCALENDAR
