BEGIN:VCALENDAR
PRODID:-//PUBBLE//agenda//NL
VERSION:2.0
METHOD:PUBLISH
BEGIN:VEVENT
DTSTART:20260420T080000Z
DTEND:20260520T214600Z
DTSTAMP:20260421T061349Z
UID:dcaada98-198f-4171-9395-1defeee8bf68
CREATED:20260421T061349Z
NAME:Workshop Ambacht en Metaal texelagenda.nl
X-WR-CALNAME:Workshop Ambacht en Metaal
X-ALT-DESC;FMTTYPE=text/html:<a href='/agenda/2026/4/20/workshop-ambacht-en-metaal-335601'>/agenda/2026/4/20/workshop-ambacht-en-metaal-335601</a> || <p><strong>Op zoek naar een uniek uitje op Texel?</strong></p><p>Wil je iets nieuws leren en je bezoek aan ons mooie eiland extra bijzonder maken? Ontdek de kunst van traditioneel emailleren, koperslaan of handgraveren en maak je eigen meesterstuk bij meestergraveur Jacqueline Jimmink!</p><p>Tijdens deze 2,5 uur durende workshop werk je met vuur, kleur en metaal zoals de oude meesters dat ook deden. De workshop is uitdagend voor iedereen en wordt aangepast aan het niveau van elke deelnemer.</p><p><strong>MAAK JE EIGEN FANTASIE MET AMBACHT</strong></p><p>Geef kleur aan je uitje en maak het onvergetelijk. Zet je handen aan het werk en maak je hoofd leeg.</p><p>In Jacqueline’s Meesterworkshops leer je authentieke technieken zoals boren, zagen, knippen, vijlen, buigen, emailleren en graveren. Zo creëer je een uniek Texels meesterwerk, dat je uiteraard mee naar huis neemt.</p><p>Deelname is mogelijk zowel in groepen als individueel, op locatie of in Jacqueline’s eigen atelier. Thema’s variëren van emailleren en graveren tot sieraden, naamplaten en koperslaan. Workshops kunnen op maat worden georganiseerd voor gezinnen, vrienden, collega’s of in samenwerking met bedrijven en scholen. Neem contact op voor de mogelijkheden.</p><p>Dit evenement is niet rolstoelvriendelijk.</p><p>Dit evenement is niet huisdiervriendelijk.</p>
DESCRIPTION:<a href='/agenda/2026/4/20/workshop-ambacht-en-metaal-335601'>/agenda/2026/4/20/workshop-ambacht-en-metaal-335601</a> || <p><strong>Op zoek naar een uniek uitje op Texel?</strong></p><p>Wil je iets nieuws leren en je bezoek aan ons mooie eiland extra bijzonder maken? Ontdek de kunst van traditioneel emailleren, koperslaan of handgraveren en maak je eigen meesterstuk bij meestergraveur Jacqueline Jimmink!</p><p>Tijdens deze 2,5 uur durende workshop werk je met vuur, kleur en metaal zoals de oude meesters dat ook deden. De workshop is uitdagend voor iedereen en wordt aangepast aan het niveau van elke deelnemer.</p><p><strong>MAAK JE EIGEN FANTASIE MET AMBACHT</strong></p><p>Geef kleur aan je uitje en maak het onvergetelijk. Zet je handen aan het werk en maak je hoofd leeg.</p><p>In Jacqueline’s Meesterworkshops leer je authentieke technieken zoals boren, zagen, knippen, vijlen, buigen, emailleren en graveren. Zo creëer je een uniek Texels meesterwerk, dat je uiteraard mee naar huis neemt.</p><p>Deelname is mogelijk zowel in groepen als individueel, op locatie of in Jacqueline’s eigen atelier. Thema’s variëren van emailleren en graveren tot sieraden, naamplaten en koperslaan. Workshops kunnen op maat worden georganiseerd voor gezinnen, vrienden, collega’s of in samenwerking met bedrijven en scholen. Neem contact op voor de mogelijkheden.</p><p>Dit evenement is niet rolstoelvriendelijk.</p><p>Dit evenement is niet huisdiervriendelijk.</p>
LAST-MODIFIED:20260421T061349Z
LOCATION: JMJ Ambachtsatelier | Vogelenzang 19 Den Burg
SEQUENCE:0
STATUS:CONFIRMED
SUMMARY:Workshop Ambacht en Metaal
TRANSP:OPAQUE
END:VEVENT
END:VCALENDAR
