BEGIN:VCALENDAR
PRODID:-//PUBBLE//agenda//NL
VERSION:2.0
METHOD:PUBLISH
BEGIN:VEVENT
DTSTART:20260420T120000Z
DTEND:20260520T214900Z
DTSTAMP:20260421T065924Z
UID:43dfe84b-01ea-4036-8b17-bbda32725268
CREATED:20260421T065924Z
NAME:Workshop Koperslaan & Ciseleren texelagenda.nl
X-WR-CALNAME:Workshop Koperslaan & Ciseleren
X-ALT-DESC;FMTTYPE=text/html:<a href='/agenda/2026/4/20/workshop-koperslaan-amp-ciseleren-335602'>/agenda/2026/4/20/workshop-koperslaan-amp-ciseleren-335602</a> || <p><strong>Workshop Koperslaan bij JMJ Ambachtsatelier op Texel</strong></p><p>Wil je een unieke ervaring op Texel? Leer de kunst van koperslaan in de workshop bij JMJ Ambachtsatelier en maak jke eigen Texel-memory! Onder begeleiding van vakvrouw Jacqueline Jimmink sla je zelf metaal in de traditionele techniek. Maak je eigen kunstwerk en ontdek hoe je met hamer en koper de mooiste patronen creëert. Geschikt voor iedereen, van beginners tot gevorderden. Een perfect uitje voor creatievelingen!</p><p>Dit evenement is niet rolstoelvriendelijk.</p><p>Dit evenement is niet huisdiervriendelijk.</p>
DESCRIPTION:<a href='/agenda/2026/4/20/workshop-koperslaan-amp-ciseleren-335602'>/agenda/2026/4/20/workshop-koperslaan-amp-ciseleren-335602</a> || <p><strong>Workshop Koperslaan bij JMJ Ambachtsatelier op Texel</strong></p><p>Wil je een unieke ervaring op Texel? Leer de kunst van koperslaan in de workshop bij JMJ Ambachtsatelier en maak jke eigen Texel-memory! Onder begeleiding van vakvrouw Jacqueline Jimmink sla je zelf metaal in de traditionele techniek. Maak je eigen kunstwerk en ontdek hoe je met hamer en koper de mooiste patronen creëert. Geschikt voor iedereen, van beginners tot gevorderden. Een perfect uitje voor creatievelingen!</p><p>Dit evenement is niet rolstoelvriendelijk.</p><p>Dit evenement is niet huisdiervriendelijk.</p>
LAST-MODIFIED:20260421T065924Z
LOCATION: JMJ Ambachtsatelier | Vogelenzang 19 Den Burg
SEQUENCE:0
STATUS:CONFIRMED
SUMMARY:Workshop Koperslaan & Ciseleren
TRANSP:OPAQUE
END:VEVENT
END:VCALENDAR
