BEGIN:VCALENDAR
PRODID:-//PUBBLE//agenda//NL
VERSION:2.0
METHOD:PUBLISH
BEGIN:VEVENT
DTSTART:20260501T120000Z
DTEND:20261017T083100Z
DTSTAMP:20260422T042051Z
UID:b520f73c-e244-447d-816b-4e227a59f708
CREATED:20260422T042051Z
NAME:Bezoek aan de eetbare natuurtuin texelagenda.nl
X-WR-CALNAME:Bezoek aan de eetbare natuurtuin
X-ALT-DESC;FMTTYPE=text/html:<a href='/agenda/2026/5/1/bezoek-aan-de-eetbare-natuurtuin-335610'>/agenda/2026/5/1/bezoek-aan-de-eetbare-natuurtuin-335610</a> || <p>Bezoek onze eetbare natuurtuin – voedselbos aan de Koningsweg 4, Oosterend. Een plek waar het heerlijk toeven is met zowel eetbare gewassen als een passende tuinarchitectuur. Een voorbeeldtuin ontstaan door een mix van invloeden. Uit de permacultuur lerende we de permanente planten en bedekking van de grond. Uit de de stroming van de voedselbossen komt het werken met meerdere lagen eetbare gewassen. Uit de tuinarchitectuur pasten we de zichtlijnen, open en gesloten plekken en bomenrijen toe. Met deze ervaring kunnen we ook advies en tuintips geven voor uw eigen tuin. Natuur Goed voedselbos en eetbare natuurtuin, uniek op Texel. Het is het resultaat van 30 jaar groenervaring van de eigenaren Siem en Conradine. Kom langs op donderdag, vrijdag of zaterdag tussen 14.00 en 17.00. In ons winkeltje vind je eetbare planten, thee van eigen terrein en jam en meer. Entree: 7,50 p.p. incl thee of koffie en koek, kinderen 1-4 jaar € 1,50. Voor de theeliefhebbers hebben we thee van eigen terrein…….verrassende smaak! Voor groepen van 10 tot 30 personen maken we graag een afspraak op maat. Kijk ook op thee proeverij, lunch of outdoor cooking voor groepen. Met de entreeprijs helpt u ons aan de financiële middelen om verder te gaan met de ontwikkeling van de tuin. Alvast bedankt!</p><p>Dit evenement is rolstoelvriendelijk.</p><p>Dit evenement is niet huisdiervriendelijk.</p>
DESCRIPTION:<a href='/agenda/2026/5/1/bezoek-aan-de-eetbare-natuurtuin-335610'>/agenda/2026/5/1/bezoek-aan-de-eetbare-natuurtuin-335610</a> || <p>Bezoek onze eetbare natuurtuin – voedselbos aan de Koningsweg 4, Oosterend. Een plek waar het heerlijk toeven is met zowel eetbare gewassen als een passende tuinarchitectuur. Een voorbeeldtuin ontstaan door een mix van invloeden. Uit de permacultuur lerende we de permanente planten en bedekking van de grond. Uit de de stroming van de voedselbossen komt het werken met meerdere lagen eetbare gewassen. Uit de tuinarchitectuur pasten we de zichtlijnen, open en gesloten plekken en bomenrijen toe. Met deze ervaring kunnen we ook advies en tuintips geven voor uw eigen tuin. Natuur Goed voedselbos en eetbare natuurtuin, uniek op Texel. Het is het resultaat van 30 jaar groenervaring van de eigenaren Siem en Conradine. Kom langs op donderdag, vrijdag of zaterdag tussen 14.00 en 17.00. In ons winkeltje vind je eetbare planten, thee van eigen terrein en jam en meer. Entree: 7,50 p.p. incl thee of koffie en koek, kinderen 1-4 jaar € 1,50. Voor de theeliefhebbers hebben we thee van eigen terrein…….verrassende smaak! Voor groepen van 10 tot 30 personen maken we graag een afspraak op maat. Kijk ook op thee proeverij, lunch of outdoor cooking voor groepen. Met de entreeprijs helpt u ons aan de financiële middelen om verder te gaan met de ontwikkeling van de tuin. Alvast bedankt!</p><p>Dit evenement is rolstoelvriendelijk.</p><p>Dit evenement is niet huisdiervriendelijk.</p>
LAST-MODIFIED:20260422T042051Z
LOCATION: Voedselbos-eetbare natuurtuin | Koningsweg 4 Oosterend
SEQUENCE:0
STATUS:CONFIRMED
SUMMARY:Bezoek aan de eetbare natuurtuin
TRANSP:OPAQUE
END:VEVENT
END:VCALENDAR
