BEGIN:VCALENDAR
PRODID:-//PUBBLE//agenda//NL
VERSION:2.0
METHOD:PUBLISH
BEGIN:VEVENT
DTSTART:20260501T073000Z
DTEND:20261017T084100Z
DTSTAMP:20260421T234454Z
UID:df192830-eac9-42c6-bfe9-b41be5ce15a1
CREATED:20260421T234454Z
NAME:Thee maken; zelf vinden, plukken, drogen texelagenda.nl
X-WR-CALNAME:Thee maken; zelf vinden, plukken, drogen
X-ALT-DESC;FMTTYPE=text/html:<a href='/agenda/2026/5/1/thee-maken-zelf-vinden-plukken-drogen-335611'>/agenda/2026/5/1/thee-maken-zelf-vinden-plukken-drogen-335611</a> || <p>Zelf je thee maken door het plukken van kruiden, dat kan bij Natuur Goed! Er wordt veelal thee van kruiden uit verre oorden gedronken, maar dat hoeft niet! Een thee van Nederlandse en/of Texelse kruiden doet daar niet voor onder. Het is verrassend lekker en nog gezond ook! Denk aan munt, brandnetel en kamille, maar ook droppplant, weegbree of guldenroede. Veel (maar niet alle) kruiden zijn eetbaar en goed te gebruiken voor een smaakvolle thee. We begeleiden je om de juiste keuzes voor de eetbare planten te maken. Deze bijeenkomst neem ik je mee het veld in, zelf zoeken, plukken en verzamelen. Tips voor thuis als je van plan bent om zelf te gaan oogsten, tips voor aankoop als je graag een goede thee in de winkel koopt. Je leest zelf over de werkzame stoffen, heel verrassend! De workshop wordt afgerond met het samenstellen van je eigen theemix voor thuis. De bijeenkomst is van 9.30 tot 11.00 uur. Iedere donderdag en zaterdag voor individuele inschrijving(tot 8 personen). Bij voldoende aanmelding gaat de bijeenkomst door. Maatwerk voor groepen van 10 tot 30 personen is ook mogelijk op andere dagen. Kosten: € 18,50 p.p. Kinderen van 1 tot 4 € 3,50. Tot ziens in Oosterend, Conradine </p><p>Dit evenement is rolstoelvriendelijk.</p><p>Dit evenement is niet huisdiervriendelijk.</p>
DESCRIPTION:<a href='/agenda/2026/5/1/thee-maken-zelf-vinden-plukken-drogen-335611'>/agenda/2026/5/1/thee-maken-zelf-vinden-plukken-drogen-335611</a> || <p>Zelf je thee maken door het plukken van kruiden, dat kan bij Natuur Goed! Er wordt veelal thee van kruiden uit verre oorden gedronken, maar dat hoeft niet! Een thee van Nederlandse en/of Texelse kruiden doet daar niet voor onder. Het is verrassend lekker en nog gezond ook! Denk aan munt, brandnetel en kamille, maar ook droppplant, weegbree of guldenroede. Veel (maar niet alle) kruiden zijn eetbaar en goed te gebruiken voor een smaakvolle thee. We begeleiden je om de juiste keuzes voor de eetbare planten te maken. Deze bijeenkomst neem ik je mee het veld in, zelf zoeken, plukken en verzamelen. Tips voor thuis als je van plan bent om zelf te gaan oogsten, tips voor aankoop als je graag een goede thee in de winkel koopt. Je leest zelf over de werkzame stoffen, heel verrassend! De workshop wordt afgerond met het samenstellen van je eigen theemix voor thuis. De bijeenkomst is van 9.30 tot 11.00 uur. Iedere donderdag en zaterdag voor individuele inschrijving(tot 8 personen). Bij voldoende aanmelding gaat de bijeenkomst door. Maatwerk voor groepen van 10 tot 30 personen is ook mogelijk op andere dagen. Kosten: € 18,50 p.p. Kinderen van 1 tot 4 € 3,50. Tot ziens in Oosterend, Conradine </p><p>Dit evenement is rolstoelvriendelijk.</p><p>Dit evenement is niet huisdiervriendelijk.</p>
LAST-MODIFIED:20260421T234454Z
LOCATION: voedselbos- eetbare natuurtuin | Koningsweg 4 Oosterend
SEQUENCE:0
STATUS:CONFIRMED
SUMMARY:Thee maken; zelf vinden, plukken, drogen
TRANSP:OPAQUE
END:VEVENT
END:VCALENDAR
