BEGIN:VCALENDAR
PRODID:-//PUBBLE//agenda//NL
VERSION:2.0
METHOD:PUBLISH
BEGIN:VEVENT
DTSTART:20260507T080000Z
DTEND:20260507T100000Z
DTSTAMP:20260422T231445Z
UID:fa047dfb-bd0a-486b-ab35-54e407569e94
CREATED:20260422T231445Z
NAME:InloopHonc - voor leven met en na kanker texelagenda.nl
X-WR-CALNAME:InloopHonc - voor leven met en na kanker
X-ALT-DESC;FMTTYPE=text/html:<a href='/agenda/2026/5/7/inloophonc-voor-leven-met-en-na-kanker-335620'>/agenda/2026/5/7/inloophonc-voor-leven-met-en-na-kanker-335620</a> || <p>Opening van InloopHonc, het Texelse inloophuis voor wie te maken heeft met kanker.</p><p>Wees welkom op donderdag 7 mei tussen 10.00 - 12.00 uur in schietsportcentrum Odysseus, Emmalaan 65 in Den Burg.</p><p>Het InloopHonc is vanaf vandaag iedere donderdag, in de oneven weken, geopend van 10.00 tot 12.00 uur.</p><p>Een veilige plek waar je welkom bent voor een gesprek, een kop koffie of thee, een luisterend oor of om ervaringen te delen met anderen die in een vergelijkbare situatie zitten.&nbsp;</p><p>Of je nu patiënt, ex-patiënt of naaste bent; je bent hier van harte welkom.</p><p>Het InloopHonc wordt georganiseerd door Texels Welzijn in samenwerking met Roparun Texel.</p><p>Dit evenement is rolstoelvriendelijk.</p><p>Dit evenement is huisdiervriendelijk.</p>
DESCRIPTION:<a href='/agenda/2026/5/7/inloophonc-voor-leven-met-en-na-kanker-335620'>/agenda/2026/5/7/inloophonc-voor-leven-met-en-na-kanker-335620</a> || <p>Opening van InloopHonc, het Texelse inloophuis voor wie te maken heeft met kanker.</p><p>Wees welkom op donderdag 7 mei tussen 10.00 - 12.00 uur in schietsportcentrum Odysseus, Emmalaan 65 in Den Burg.</p><p>Het InloopHonc is vanaf vandaag iedere donderdag, in de oneven weken, geopend van 10.00 tot 12.00 uur.</p><p>Een veilige plek waar je welkom bent voor een gesprek, een kop koffie of thee, een luisterend oor of om ervaringen te delen met anderen die in een vergelijkbare situatie zitten.&nbsp;</p><p>Of je nu patiënt, ex-patiënt of naaste bent; je bent hier van harte welkom.</p><p>Het InloopHonc wordt georganiseerd door Texels Welzijn in samenwerking met Roparun Texel.</p><p>Dit evenement is rolstoelvriendelijk.</p><p>Dit evenement is huisdiervriendelijk.</p>
LAST-MODIFIED:20260422T231445Z
LOCATION: Schietsportcentrum Odysseus | Emmalaan 65 Den Burg
SEQUENCE:0
STATUS:CONFIRMED
SUMMARY:InloopHonc - voor leven met en na kanker
TRANSP:OPAQUE
END:VEVENT
END:VCALENDAR
